BEGIN:VCALENDAR
VERSION:2.0
PRODID:Events Booking
BEGIN:VEVENT
UID:69ea521a8998d
SUMMARY:1º meeting de apresentação de trabalhos acadêmicos de Acupuntur
 a do Curso de Biomedicina
DESCRIPTION:Evento exclusivo para a turma BM06MA.
LOCATION:Av. Gentil Bittencourt\, 1144.
DTSTART:20221123T110000Z
DTEND:20221123T210000Z
DTSTAMP:20221121T162635Z
ORGANIZER;CN=Portal de Eventos - Centro Universitário Fibra:MAILTO:eventos
 @fibrapara.edu.br
GEO:-1.455183;-48.482397
X-APPLE-STRUCTURED-LOCATION;VALUE=URI;X-ADDRESS=Av. Gentil Bittencourt\, 11
 44.;X-APPLE-RADIUS=72;X-TITLE=Centro Universitário Fibra:-1.455183;-48.48
 2397
END:VEVENT
END:VCALENDAR