BEGIN:VCALENDAR
VERSION:2.0
PRODID:Events Booking
BEGIN:VEVENT
UID:69ea559f89632
SUMMARY:Jornada Vet
DESCRIPTION:Em comemoração ao dia 09 de setembro\, Dia do Médico Veterin
 ário\, vem aí um super evento que conta com Feira de curiosidades\, pale
 stras e minicursos.A Feira acontecerá dia 09 de setembro de 8:30 às 12h 
 e é aberta ao público. As palestras e minicursos são para estudantes de
  Medicina Veterinária de qualquer instituição e Médicos Veterinários.
  Para participar de um minicurso\, deve ser feita a inscrição também na
 s palestras.Veja a programação e se inscreva logo.Vai&nbsp\;ser&nbsp\;mu
 ito&nbsp\;bom!
 Evento exclusivo para discentes e profissionais da Medici
 na Veterinária.
LOCATION:Av. Gentil Bittencourt\, 1144.
DTSTART:20240909T110000Z
DTEND:20240910T210000Z
DTSTAMP:20240829T163105Z
ORGANIZER;CN=Portal de Eventos - Centro Universitário Fibra:MAILTO:eventos
 @fibrapara.edu.br
GEO:-1.455183;-48.482397
X-APPLE-STRUCTURED-LOCATION;VALUE=URI;X-ADDRESS=Av. Gentil Bittencourt\, 11
 44.;X-APPLE-RADIUS=72;X-TITLE=Centro Universitário Fibra:-1.455183;-48.48
 2397
END:VEVENT
END:VCALENDAR