BEGIN:VCALENDAR
VERSION:2.0
PRODID:Events Booking
BEGIN:VEVENT
UID:69ea4074b72cc
SUMMARY:Jornada do Agro
DESCRIPTION:A agropecuária é um pilar importante para o desenvolvimento e
 conômico e sustentável do país e abrange diversas atividades essenciais
  a todos nós\, tanto na função de produtores no campo\, quanto como con
 sumidores de produtos de origem animal.
 Dia 14 de outubro é o Dia Nacio
 nal da Pecuária. Nesse contexto\, é importante a presença do Médico Ve
 terinário na pecuária\, que atua na produção\, reprodução e nutriç
 ão de animais. No dia 09 de outubro\, o curso de Medicina Veterinária es
 tará promovendo o evento “Jornada do Agro” com uma palestra e 1 minic
 urso teórico.
 Público-alvo: Estudantes de Medicina Veterinária e Méd
 icos VeterináriosInscrição: 1kg de ração para cães e/ou gatos
LOCATION:Av. Gentil Bittencourt\, 1144.
DTSTART:20251009T170000Z
DTEND:20251009T210000Z
DTSTAMP:20251003T181308Z
ORGANIZER;CN=Portal de Eventos - Centro Universitário Fibra:MAILTO:eventos
 @fibrapara.edu.br
GEO:-1.455183;-48.482397
X-APPLE-STRUCTURED-LOCATION;VALUE=URI;X-ADDRESS=Av. Gentil Bittencourt\, 11
 44.;X-APPLE-RADIUS=72;X-TITLE=Centro Universitário Fibra:-1.455183;-48.48
 2397
END:VEVENT
END:VCALENDAR