BEGIN:VCALENDAR
VERSION:2.0
PRODID:Events Booking
BEGIN:VEVENT
UID:69ea2a4a12547
SUMMARY:I Jornada de Práticas Integrativas e Complementares em Saúde (PIC
 s) do Curso de Biomedicina: avaliação e intervenção em acupuntura e t
 écnicas associadas
DESCRIPTION:Evento exclusivo para a turma do 6º semestre de Biomedicina do
  Centro Universitário Fibra.
 
DTSTART:20231129T110000Z
DTEND:20231129T190000Z
DTSTAMP:20231128T032620Z
ORGANIZER;CN=Portal de Eventos - Centro Universitário Fibra:MAILTO:eventos
 @fibrapara.edu.br
END:VEVENT
END:VCALENDAR