BEGIN:VCALENDAR
VERSION:2.0
PRODID:Events Booking
BEGIN:VEVENT
UID:69ea4622a5b42
SUMMARY:OFICINA: Recursos para o STJ e STF: Especial e Extraordinário
DESCRIPTION:
LOCATION:Av. Gentil Bittencourt\, 1144.
DTSTART:20221020T180000Z
DTEND:20221020T210000Z
DTSTAMP:20221001T034755Z
ORGANIZER;CN=Portal de Eventos - Centro Universitário Fibra:MAILTO:eventos
 @fibrapara.edu.br
GEO:-1.455183;-48.482397
X-APPLE-STRUCTURED-LOCATION;VALUE=URI;X-ADDRESS=Av. Gentil Bittencourt\, 11
 44.;X-APPLE-RADIUS=72;X-TITLE=Centro Universitário Fibra:-1.455183;-48.48
 2397
END:VEVENT
END:VCALENDAR