BEGIN:VCALENDAR
VERSION:2.0
PRODID:Events Booking
BEGIN:VEVENT
UID:69ecaaaed43b2
SUMMARY:IV MOSTRA DE EXTENSÃO DA CURRICULARIZAÇÃO - Dia 28
DESCRIPTION:
 
 
 Horário
 Semestre
 Atividade
 Foco
 Responsáveis
 
 
 
 
 
 Manhã
 4º M\, 6º\, 8º
 Cerimônia de AberturaApresent
 ação dos Projetos
 Contextualização: O Futuro da Enfermagem e as Nova
 s Tecnologias
 Coordenação
 
 
 Manhã
 4º M\, 6º\, 8º
 Apresen
 tação dos Projetos
 Metodologias Ágeis de Desenvolvimento de Produtos 
 (Design Thinking)
 Profs. de Metodologia e Inovação
 
 
 Noite
 4º
  N (ÚNICA PARTICIPAÇÃO)
 Apresentação dos Projetos do 4º Semestre (
 Noite)
 Avaliação e exposição dos produtos focados em Educação em S
 aúde e na Saúde
 Profa. Nicole
 
 
 
LOCATION:Av. Gentil Bittencourt\, 1144.
DTSTART:20251028T110000Z
DTEND:20251028T230000Z
DTSTAMP:20251008T014525Z
ORGANIZER;CN=Portal de Eventos - Centro Universitário Fibra:MAILTO:eventos
 @fibrapara.edu.br
GEO:-1.455183;-48.482397
X-APPLE-STRUCTURED-LOCATION;VALUE=URI;X-ADDRESS=Av. Gentil Bittencourt\, 11
 44.;X-APPLE-RADIUS=72;X-TITLE=Centro Universitário Fibra:-1.455183;-48.48
 2397
END:VEVENT
END:VCALENDAR