BEGIN:VCALENDAR
VERSION:2.0
PRODID:Events Booking
BEGIN:VEVENT
UID:69ea3ebb01d72
SUMMARY:Introdução aos Protocolos de Segurança do Paciente
DESCRIPTION:Programação:• Introdução aos princípios de segurança do
  paciente e metas&nbsp\;• Simulação prática: identificação segura\,
  checagem de medicação&nbsp\;• Estudo de caso com discussão&nbsp\;•
  Elaboração de checklist de segurança&nbsp\;
 Participe e fortaleça a
  segurança no cuidado!
 
LOCATION:Av. Gentil Bittencourt\, 1144.
DTSTART:20260504T140000Z
DTEND:20260504T160000Z
DTSTAMP:20260422T165017Z
ORGANIZER;CN=Portal de Eventos - Centro Universitário Fibra:MAILTO:eventos
 @fibrapara.edu.br
GEO:-1.455183;-48.482397
X-APPLE-STRUCTURED-LOCATION;VALUE=URI;X-ADDRESS=Av. Gentil Bittencourt\, 11
 44.;X-APPLE-RADIUS=72;X-TITLE=Centro Universitário Fibra:-1.455183;-48.48
 2397
END:VEVENT
END:VCALENDAR