BEGIN:VCALENDAR
VERSION:2.0
PRODID:Events Booking
BEGIN:VEVENT
UID:69ea2a48e8438
SUMMARY:Curso de Inglês Básico - Módulo 2
DESCRIPTION:CURSO DE INGLÊS BÁSICO - PRIMEIRA TURMA - SEGUNDO MÓDULO
 E
 stão disponíveis cinco vagas para novos alunos com conhecimento básico 
 da língua inglesa. Os alunos poderão ingressar diretamente no segundo m
 ódulo do curso mediante pagamento da inscrição e entrevista de seleçã
 o.
 O inglês vem recebendo notoriedade cada vez maior como língua franc
 a. Embora outros idiomas também tenham adquirido maior importância nos 
 últimos anos\, a língua inglesa continua sendo aquela que tem a preferê
 ncia do Mundo em vários campos de atividades\, como congressos\, publica
 ções\, informação\, tecnologia etc. Assim\, a oferta de um curso de l
 íngua inglesa fala por si só. O Centro Universitário Fibra\, sempre ant
 enado com os rumos da vida global atual\, está oferecendo a todos os seus
  alunos O Curso de Extensão Inglês Básico\, com material atualizado e a
 ulas dinâmicas\, sempre buscando priorizar as premissas do método comuni
 cativo.
 O&nbsp\;Curso de Inglês Básico&nbsp\;terá início no dia 06 d
 e agosto\, e acontecerá às terças e quintas\, desde que seja alcançado
  o número mínimo de inscrições\, 15.
 A taxa única de R$200\,00 (que
  pode ser parcelada no cartão de crédito) é referente às aulas de agos
 to\, setembro\, outubro e novembro. Totalizando 70 horas de aula no segund
 o módulo.
 
LOCATION:Av. Gentil Bittencourt\, 1144.
DTSTART:20240806T193000Z
DTEND:20240831T210000Z
DTSTAMP:20240222T215619Z
ORGANIZER;CN=Portal de Eventos - Centro Universitário Fibra:MAILTO:eventos
 @fibrapara.edu.br
GEO:-1.455183;-48.482397
X-APPLE-STRUCTURED-LOCATION;VALUE=URI;X-ADDRESS=Av. Gentil Bittencourt\, 11
 44.;X-APPLE-RADIUS=72;X-TITLE=Centro Universitário Fibra:-1.455183;-48.48
 2397
END:VEVENT
END:VCALENDAR