BEGIN:VCALENDAR
VERSION:2.0
PRODID:Events Booking
BEGIN:VEVENT
UID:69ea6c0821dc5
SUMMARY:OFICINA: Análise de marcha  e prescrição de palmilha para corred
 ores
DESCRIPTION:III JOFISIO: Atualidades\, empreendedorismo e uso de evidência
 s na prática profissional
 &nbsp\;
 No dia 22 de outubro\, mês que cel
 ebramos o Dia do Fisioterapeuta\, a Fibra realizará uma jornada especial 
 dedicada a discutir as atualidades e inovações na área. Com o tema \"At
 ualidades\, Empreendedorismo e o Uso da Evidência na Prática Clínica\"\
 , o evento reunirá profissionais e estudantes para explorar as últimas t
 endências e práticas baseadas em evidências que estão moldando a fisio
 terapia contemporânea. A programação contará com palestras e mesas-red
 ondas\, proporcionando um espaço para troca de experiências e networking
 . Além disso\, haverá apresentação de trabalhos de forma oral ou em ba
 nners\, onde os alunos poderão expor seus trabalhos científicos\, promov
 endo o compartilhamento de pesquisas e incentivando a produção acadêmic
 a. Venha se inspirar e adquirir conhecimentos valiosos que podem impulsion
 ar sua carreira e aprimorar sua atuação clínica. Junte-se a nós nessa 
 troca enriquecedora e celebre conosco a importância da fisioterapia!
 
LOCATION:Av. Gentil Bittencourt\, 1144.
DTSTART:20241021T113000Z
DTEND:20241021T133000Z
DTSTAMP:20241003T151905Z
ORGANIZER;CN=Portal de Eventos - Centro Universitário Fibra:MAILTO:eventos
 @fibrapara.edu.br
GEO:-1.455183;-48.482397
X-APPLE-STRUCTURED-LOCATION;VALUE=URI;X-ADDRESS=Av. Gentil Bittencourt\, 11
 44.;X-APPLE-RADIUS=72;X-TITLE=Centro Universitário Fibra:-1.455183;-48.48
 2397
END:VEVENT
END:VCALENDAR