BEGIN:VCALENDAR
VERSION:2.0
PRODID:Events Booking
BEGIN:VEVENT
UID:69eca6c74de46
SUMMARY:II JORNADA DE PSICOLOGIA SOCIAL E MOVIMENTOS SOCIAIS NA AMAZÔNIA -
  NOITE
DESCRIPTION:Hora: 19h às 20h
 Palestra 2: Os impactos sociais e na saúde
  mental dentro da luta do movimento negro contra o racismo ambiental
 Con
 vidada(o): Wellingta Macêdo
 INTERVALO: 20 às 20:15h.
 &nbsp\;
 Hora:
  20:15 às 21:30h
 Oficina: Escritas In[acabadas...]: Clínica e escrita 
 a partir de Deleuze\, Fanon e Carolina Maria de Jesus
 Convidada: Profa. 
 Dra. Ana Lúcia Silva.
LOCATION:Av. Gentil Bittencourt\, 1144.
DTSTART:20250529T220000Z
DTEND:20250530T003000Z
DTSTAMP:20250512T142417Z
ORGANIZER;CN=Portal de Eventos - Centro Universitário Fibra:MAILTO:eventos
 @fibrapara.edu.br
GEO:-1.455183;-48.482397
X-APPLE-STRUCTURED-LOCATION;VALUE=URI;X-ADDRESS=Av. Gentil Bittencourt\, 11
 44.;X-APPLE-RADIUS=72;X-TITLE=Centro Universitário Fibra:-1.455183;-48.48
 2397
END:VEVENT
END:VCALENDAR