BEGIN:VCALENDAR
VERSION:2.0
PRODID:Events Booking
BEGIN:VEVENT
UID:69ea57882a348
SUMMARY:Submissão de Trabalhos
DESCRIPTION:A aceitação da proposta estará condicionada à avaliação d
 a Comissão Científica. Serão aceitos trabalhos na modalidade Pôster. C
 ada inscrição permitirá a apresentação de até 2 (dois) trabalhos por
  autor. A participação em coautoria e o número de autores por trabalho 
 serão limitados a 05 autores.
 
 Apresentado e editado em WORD\, versã
 o 6 ou posterior\, Fonte Times New Roman\, tamanho 12\, espaçamento simpl
 es entre linhas\, com margens de 3 cm para todos os lados\, para papel A4.
  Na primeira linha deve constar\, em negrito\, o título do trabalho\, em 
 letras maiúsculas\, em alinhamento centralizado e a modalidade do trabalh
 o. Na linha seguinte\, deve seguir\, em negrito e em letras maiúsculas\, 
 o subtema ao qual o(s) autor(es) pretende(m) submeter seu trabalho (Ver a 
 seguir\, abaixo). Na linha seguinte\, em alinhamento centralizado\, o(s) n
 ome(s) do(s) autor(es)\, por extenso\, com iniciais em letra maiúscula\, 
 seguidos da sigla da instituição a que se vinculam e do(s) seu(s) respec
 tivos endereços eletrônicos\, entre parênteses\, com alinhamento à dir
 eita. O resumo deverá conter até 250 palavras.
 Duas linhas abaixo\, in
 iciar o corpo do texto\, apresentando o resumo em parágrafo único\, em a
 linhamento justificado\, com espaçamento simples\, contendo: introdução
 \, desenvolvimento e conclusão. Deverá conter de 3 (três) a 5 (cinco) p
 alavras-chave\, em letra minúscula e separadas por ponto e vírgula.
 

  Quando houver\, especificar a fonte de financiamento ou agência financia
 dora do trabalho.
 Especificações:
 
 Apresentado e editado em WORD\,
  versão 6 ou posterior\, Fonte Times New Roman\, tamanho 12\, espaçament
 o simples entre linhas\, com margens de 3 cm para todos os lados\, para pa
 pel A4. Na primeira linha deve constar em negrito o título da mesa-redond
 a\, em letras maiúsculas e alinhamento centralizado. Na linha seguinte\, 
 deve seguir em negrito e letras maiúsculas o subtema ao qual o(s) autor(e
 s) pretende(m) submeter a mesa e o coordenador da mesma.
 Os resumos de c
 ada trabalho devem ser dispostos logo abaixo\, iniciando cada um pelo tít
 ulo em negrito\, em letras maiúsculas e alinhamento centralizado. Na linh
 a seguinte\, em alinhamento centralizado\, o(s) nome(s) do(s) autor(es) de
  cada trabalho\, por extenso\, com iniciais em letra maiúscula\, seguidos
  da sigla da instituição a que se vinculam e do(s) seu(s) endereço elet
 rônico\, entre parênteses\, com alinhamento à direita. O resumo deverá
  conter até 250 palavras.
 Duas linhas abaixo\, iniciar o corpo do texto
 \, apresentando o resumo em parágrafo único\, em alinhamento justificado
 \, com espaçamento simples\, contendo: introdução\, desenvolvimento e c
 onclusão. Deverá conter de 3 (três) a 5 (cinco) palavras-chave\, em let
 ra minúscula e separadas por ponto e vírgula.
 Quando houver\, especifi
 car a fonte de financiamento ou agência financiadora do trabalho.
 
 

  Avaliação dos resumos:
 
 
 Os resumos devem ser submetidos via e-ma
 il e avaliados pelos membros da Comissão Científica do evento\, após a 
 confirmação da inscrição do autor principal\, podendo ser considerados
  nas seguintes modalidades: “Aceitos”\, “Aceitos com Modificações 
 Formais” ou “Rejeitados”. Os autores aceitam antecipadamente que as 
 modificações formais sejam realizadas pela Comissão Científica.
 Os t
 rabalhos serão avaliados de acordo com os seguintes critérios: (a) adequ
 ação do título do trabalho\, (b) fundamentação e relevância do estud
 o\, (c) qualidade gramatical do texto\, (d) objetividade\, (e) adequação
  do método aos objetivos propostos e (f) cumprimento das normas de elabor
 ação dos resumos.
 O resultado da avaliação dos trabalhos será infor
 mado por e-mail ao(s) autor(es). Em caso de recurso quanto a não aceitaç
 ão do trabalho\, este deverá ser enviado por e-mail para a Comissão Cie
 ntífica\, num prazo de até 72 (setenta e duas) horas após o recebimento
  do resultado\; caso o trabalho seja reconsiderado\, será comunicado por 
 e-mail ao(s) autor(es) no prazo de 7 (sete) dias.
 
 
 Eixos Temáticos
  para posters: 
 
 Movimentos Sociais e Relações Étnico-Raciais (Povo
 s Indígenas e Quilombolas)\;
 Produção e Psicologia Social na Amazôni
 a
 Mundo do Trabalho\, Luta Antimanicomial e Saúde Mental\;
 Feminismos
 \, Gênero\, Sexualidades\, Direitos Sexuais e Reprodutivos\;
 Movimentos
  Sociais e Questões Socioambientais Rurais e Urbanas\;
 Inclusão\, PCD
 ’s e Capacitismos\;
 Movimentos Sociais e Luta pela Terra\;
 Movimento
 s Religiosos\;
 Democracia\, Movimentos Sociais e Emancipação\;
 Arte\
 , Resistência e Movimentos Sociais
 
 
 
LOCATION:Av. Gentil Bittencourt\, 1144.
DTSTART:20250510T110000Z
DTEND:20250524T110000Z
DTSTAMP:20250512T142417Z
ORGANIZER;CN=Portal de Eventos - Centro Universitário Fibra:MAILTO:eventos
 @fibrapara.edu.br
GEO:-1.455183;-48.482397
X-APPLE-STRUCTURED-LOCATION;VALUE=URI;X-ADDRESS=Av. Gentil Bittencourt\, 11
 44.;X-APPLE-RADIUS=72;X-TITLE=Centro Universitário Fibra:-1.455183;-48.48
 2397
END:VEVENT
END:VCALENDAR