BEGIN:VCALENDAR
VERSION:2.0
PRODID:Events Booking
BEGIN:VEVENT
UID:69eca7628d185
SUMMARY:Liderança\, Segurança e Cuidado Centrado no Paciente - tarde
DESCRIPTION:&nbsp\;14:00 - 15:30: Palestra: \"Metodologias Ativas e a Forma
 ção do Enfermeiro do Futuro\" Profa Dra Cinthia Brigida
 
 15:30 - 16:
 00: Apresentação de Trabalhos (Sessão Oral)
 16:00 - 17:00: Palestra d
 e Encerramento: \"O Cuidado Humanizado como Diferencial na Prática da Enf
 ermagem Moderna\" - Profa Dra. Valquiria Gomes 
 17:00 - 18:00: Sessão d
 e Perguntas e Respostas e Encerramento Oficial
 18:00: Encerramento
 
 
 &nbsp\;
LOCATION:Av. Gentil Bittencourt\, 1144.
DTSTART:20250930T170000Z
DTEND:20250930T210000Z
DTSTAMP:20250902T203337Z
ORGANIZER;CN=Portal de Eventos - Centro Universitário Fibra:MAILTO:eventos
 @fibrapara.edu.br
GEO:-1.455183;-48.482397
X-APPLE-STRUCTURED-LOCATION;VALUE=URI;X-ADDRESS=Av. Gentil Bittencourt\, 11
 44.;X-APPLE-RADIUS=72;X-TITLE=Centro Universitário Fibra:-1.455183;-48.48
 2397
END:VEVENT
END:VCALENDAR