BEGIN:VCALENDAR
VERSION:2.0
PRODID:Events Booking
BEGIN:VEVENT
UID:69ea5291b4835
SUMMARY:I  COLÓQUIO DO CURSO DE BIOMEDICINA DA FIBRA: “ Biomedicina na a
 tualidade: expertises profissionais”
DESCRIPTION:Evento em alusão ao dia do Biomédico\, que aborda atualidades
  de inserções do profissional Biomédico em campos de trabalho.
 Evento
  exclusivo para os alunos do Curso de Biomedicina do Centro Universitário
  Fibra
LOCATION:Av. Gentil Bittencourt\, 1144.
DTSTART:20221119T110000Z
DTEND:20221119T160000Z
DTSTAMP:20221109T152019Z
ORGANIZER;CN=Portal de Eventos - Centro Universitário Fibra:MAILTO:eventos
 @fibrapara.edu.br
GEO:-1.455183;-48.482397
X-APPLE-STRUCTURED-LOCATION;VALUE=URI;X-ADDRESS=Av. Gentil Bittencourt\, 11
 44.;X-APPLE-RADIUS=72;X-TITLE=Centro Universitário Fibra:-1.455183;-48.48
 2397
END:VEVENT
END:VCALENDAR