BEGIN:VCALENDAR
VERSION:2.0
PRODID:Events Booking
BEGIN:VEVENT
UID:69ea55e12ca17
SUMMARY:Fibra contra o Câncer
DESCRIPTION:Um evento envolvendo todos os cursos da área da saúde do Cent
 ro Universitário FIBRA que reforça a importância do trabalho multidisci
 plinar e multiprofissional das diversas áreas\, as formas de atuação de
  cada profissional além de estimular o trabalho em equipe e o respeito e 
 parceria entre os diversos cursos.
 Inscrição Solidária:&nbsp\;1 kg de
  alimento não perecível e/ou ração para cães entregues no momento do 
 check-in.
LOCATION:Av. Gentil Bittencourt\, 1144.
DTSTART:20221108T170000Z
DTEND:20221108T210000Z
DTSTAMP:20221027T210918Z
ORGANIZER;CN=Portal de Eventos - Centro Universitário Fibra:MAILTO:eventos
 @fibrapara.edu.br
GEO:-1.455183;-48.482397
X-APPLE-STRUCTURED-LOCATION;VALUE=URI;X-ADDRESS=Av. Gentil Bittencourt\, 11
 44.;X-APPLE-RADIUS=72;X-TITLE=Centro Universitário Fibra:-1.455183;-48.48
 2397
END:VEVENT
END:VCALENDAR