BEGIN:VCALENDAR
VERSION:2.0
PRODID:Events Booking
BEGIN:VEVENT
UID:69ea2eae0700b
SUMMARY:I Feira de Tecnologia de Alimentos\, Empreendedorismo e Marketing N
 utricional
DESCRIPTION:O Centro Universitário Fibra convida você para participar da 
 Primeira Feira de Tecnologia de Alimentos\, Empreendedorismo e Marketing N
 utricional\, um evento inovador que vai reunir profissionais\, estudantes 
 e empreendedores apaixonados por conhecimento\, tecnologia e novas tendên
 cias do setor alimentício.
 O que você vai encontrar:
 
 Exposição 
 de produtos e serviços inovadores\;
 Palestras sobre empreendedorismo e 
 inovação no setor de alimentos\;
 Espaços de networking e oportunidade
 s de negócios\;
 Troca de experiências com especialistas e marcas do me
 rcado.
 
 A feira será um espaço para inspirar\, conectar e transforma
 r ideias em oportunidades reais.Venha conhecer\, aprender e se surpreender
  com o que há de mais atual em tecnologia\, nutrição e marketing!
 
LOCATION:Av. Gentil Bittencourt\, 1144.
DTSTART:20251104T110000Z
DTEND:20251104T210000Z
DTSTAMP:20251024T151919Z
ORGANIZER;CN=Portal de Eventos - Centro Universitário Fibra:MAILTO:eventos
 @fibrapara.edu.br
GEO:-1.455183;-48.482397
X-APPLE-STRUCTURED-LOCATION;VALUE=URI;X-ADDRESS=Av. Gentil Bittencourt\, 11
 44.;X-APPLE-RADIUS=72;X-TITLE=Centro Universitário Fibra:-1.455183;-48.48
 2397
END:VEVENT
END:VCALENDAR