BEGIN:VCALENDAR
VERSION:2.0
PRODID:Events Booking
BEGIN:VEVENT
UID:69e9fd50bceec
SUMMARY:Extensão 2026
DESCRIPTION:
 PROJETOS DE EXTENSÃO 2026
 Edital 010/206
 MULTIDISCIPLIN
 ARES
 
 
 FIBRA EM AÇÃO: SAÚDE\, SUSTENTABILIDADE E INCLUSÃO SOCIAL
  DE CATADORES DE MATERIAIS RECICLÁVEIS
 
 
 Projeto interdisciplinar v
 oltado à promoção da saúde e melhoria das condições de vida de catad
 ores de materiais recicláveis. Inclui atendimentos básicos\, ações edu
 cativas e encaminhamentos para serviços especializados\, promovendo inclu
 são social e formação prática dos alunos.
 
 Cursos: Odontologia\; F
 isioterapia\; Psicologia\; Serviço Social\; Biomedicina\; Nutrição e Pe
 dagogia
 
 Profa. Ma. Giovana Cristina Pantoja de Souza
 
 
 COM CIAN
 ETO NÃO: UM PROJETO DE EXTENSÃO SOBRE A SAÚDE DOS TRABALHADORES EXPOSTO
 S AO CIANETO EM BELÉM DO PARÁ
 
 
 Projeto que investiga e orienta tr
 abalhadores do Mercado do Ver-o-Peso expostos ao cianeto durante o process
 amento de derivados da mandioca. Inclui coleta de dados clínicos\, exames
  básicos e atividades educativas sobre prevenção de riscos à saúde.

  
 Cursos: Biomedicina\, Nutrição e Medicina.
 
 Profa. Dra. Cláudia
  Simone Baltazar de Oliveira
 
 
 FIBRA\, ARTE E CULTURA (PROGRAMA DE E
 XTENSÃO)
 
 
 Programa institucional de extensão voltado à promoçã
 o de atividades culturais e artísticas abertas à comunidade acadêmica e
  externa. O objetivo é fortalecer a integração cultural\, estimular a e
 xpressão artística e ampliar o diálogo entre universidade e sociedade.
 
 
 Curso: Todos
 
 Prof. Dr. Gabriel Lage Neto
 &nbsp\;
 BIOMEDICINA
 
 
 
 PERFIL EPIDEMIOLÓGICO DE PACIENTES COM LINFOMA NÃO HODGKIN DE E
 TIOLOGIA VIRAL ATENDIDOS EM HOSPITAL REFERÊNCIA EM ONCOLOGIA\, BELÉM-PA
 
 
 
 Projeto extensionista que realiza levantamento e análise de dados
  epidemiológicos de pacientes atendidos no Hospital Ophir Loyola\, em Bel
 ém\, com foco em linfomas não Hodgkin associados a etiologias infecciosa
 s. A iniciativa envolve estudantes de Biomedicina na análise de prontuár
 ios\, produção científica e ações educativas\, contribuindo para a fo
 rmação acadêmica e para a vigilância epidemiológica regional.
 
 Pr
 ofa. Ma. Laís Helena Rescinho Macambira
 
 DIREITO
 
 
 CINE LEX
 
 
 
 Projeto sociocultural que utiliza o cinema como ferramenta pedagógic
 a para discutir temas jurídicos relevantes\, como direitos humanos\, just
 iça social e meio ambiente. As sessões de filmes são seguidas de debate
 s mediados por professores e convidados\, além da produção de conteúdo
 s audiovisuais e criação de acervo digital com análises e registros das
  discussões.
 
 Prof. Dr. Relivaldo Pinho
 
 
 DIREITOCONECTADO.NET
 
 
 
 Plataforma digital colaborativa dedicada à difusão de conteúdos
  sobre Direito e Tecnologia\, reunindo artigos\, análises jurídicas\, no
 tícias\, vídeos e materiais educativos. O projeto busca aproximar estuda
 ntes\, profissionais e a sociedade das discussões contemporâneas sobre D
 ireito Digital e inovação tecnológica.
 
 Prof. Me. Eduardo de Morais
  Corrêa
 &nbsp\;
 ENFERMAGEM
 
 
 SAÚDE FEMININA EM FOCO: EMPODERAM
 ENTO E EDUCAÇÃO EM SAÚDE NAS REDES SOCIAIS
 
 
 Projeto de educaçã
 o em saúde voltado à promoção da saúde da mulher por meio de conteúd
 os divulgados principalmente no Instagram. Desenvolvido por estudantes de 
 Enfermagem\, busca disseminar informações sobre prevenção e cuidado\, 
 ao mesmo tempo em que desenvolve competências educativas e profissionais 
 nos discentes.
 
 Profa. Ma. Débora Talitha Neri
 
 
 ASSISTÊNCIA D
 E ENFERMAGEM NO PROCESSO DE IMUNIZAÇÃO EM UM CENTRO UNIVERSITÁRIO (PROG
 RAMA DE EXTENSÃO)
 
 
 Programa extensionista que integra estudantes d
 e Enfermagem em atividades práticas relacionadas ao processo de imunizaç
 ão em ambiente universitário. O projeto contribui para a formação prof
 issional dos alunos e para o fortalecimento das ações de promoção da s
 aúde e prevenção de doenças na comunidade.
 
 Profa. Ma. Cinthia Br
 ígida Brito de Moraes
 
 FISIOTERAPIA
 
 
 PROMOÇÃO DO ESTILO DE V
 IDA SAUDÁVEL NA PREVENÇÃO DE DOENÇAS CRÔNICAS NÃO-TRANSMISSÍVEIS
 
 
 
 Projeto educativo desenvolvido em escolas públicas de Belém para c
 onscientizar jovens sobre prevenção de doenças crônicas não transmiss
 íveis. Por meio de palestras\, oficinas e materiais educativos\, busca in
 centivar hábitos saudáveis e promover integração entre universidade\, 
 escola e serviços de saúde.
 
 Profa. Dra. Cláudia Jeane Claudino de 
 Pontes Miranda
 
 
 TREINAMENTO DO ASSOALHO PÉLVICO EM MULHERES NO CLI
 MATÉRIO: FUNCIONALIDADE E QUALIDADE DE VIDA
 
 
 Projeto voltado à pr
 omoção da saúde da mulher na fase do climatério\, utilizando técnicas
  de fisioterapia pélvica para prevenção e tratamento de disfunções do
  assoalho pélvico. A iniciativa alia atendimento\, pesquisa e formação 
 acadêmica baseada em evidências científicas.
 
 Profa. Ma. Susanne Cr
 istine Brito e Silva
 
 ODONTOLOGIA
 
 
 TRIAGEM CLÍNICA ODONTOLÓGI
 CA: OTIMIZAÇÃO DO ATENDIMENTO NA CLÍNICA ESCOLA DA FIBRA
 
 
 Projet
 o que implementa um sistema estruturado de triagem na Clínica Escola de O
 dontologia da FIBRA\, realizando acolhimento\, avaliação inicial e encam
 inhamento adequado de pacientes. A ação melhora a organização do atend
 imento e contribui para a formação prática dos estudantes.
 
 Profa. 
 Dra. Mayara Sabrina Luz Miranda
 
 
 EDUCAÇÃO BUCAL NAS ESCOLAS
 
 
 
 Ação educativa voltada a crianças e jovens do ensino fundamental e m
 édio\, com atividades lúdicas sobre higiene oral\, alimentação saudáv
 el e prevenção de doenças bucais. Utiliza dinâmicas\, jogos e demonstr
 ações práticas para incentivar hábitos saudáveis desde a infância.

  
 Profa. Ma. Angela Rita Pontes Azevedo
 
 
 EXAMES RADIOGRÁFICOS PA
 RA PACIENTES DAS CLÍNICAS ODONTOLÓGICAS DA FIBRA
 
 
 Projeto que man
 tém o serviço de radiologia odontológica da instituição\, garantindo 
 exames complementares de imagem para pacientes atendidos nas clínicas-esc
 ola. A iniciativa amplia o acesso ao diagnóstico\, melhora a qualidade do
  atendimento e contribui para a formação prática dos alunos.
 
 Profa
 . Dra. Aline Marques Dias
 
 
 DESENVOLVIMENTO E IMPLEMENTAÇÃO DE VÍ
 DEOS EDUCATIVOS SOBRE TÉCNICAS DE ESCOVAÇÃO DENTÁRIA
 
 
 Projeto q
 ue desenvolve materiais audiovisuais educativos sobre técnicas corretas d
 e escovação dentária\, baseados em evidências científicas. Os vídeos
  são utilizados durante atendimentos clínicos e disponibilizados digital
 mente para ampliar o acesso à informação em saúde bucal.
 
 Prof. Me
 . Erich Tanaka
 
 
 ASSISTÊNCIA\, EDUCAÇÃO E PROMOÇÃO DE SAÚDE BU
 CAL EM PESSOAS VIVENDO COM HTLV: INTEGRAÇÃO ENSINO-SERVIÇO-COMUNIDADE

  
 
 Projeto que integra assistência odontológica\, educação em saú
 de e pesquisa voltadas a pessoas vivendo com HTLV. As ações incluem aten
 dimento clínico\, triagem e produção de dados epidemiológicos\, contri
 buindo para melhorar indicadores de saúde e fortalecer a integração uni
 versidade-comunidade.
 
 Prof. Dr. Ricardo Roberto de Souza Fonseca
 

  
 EGRESSOS EM AÇÃO - CUIDANDO DE SORRISOS NA COMUNIDADE
 
 
 APENAS
  VAGAS PARA VOLUNTÁRIOS
 
 Projeto que promove ações educativas e pre
 ventivas de saúde bucal em espaços públicos e comunitários. Inclui pal
 estras\, oficinas de escovação\, distribuição de kits de higiene e ori
 entações personalizadas para diferentes faixas etárias.
 
 Profa. Ma.
  Michelle leal
 &nbsp\;
 NUTRIÇÃO
 
 
 AMBULATÓRIO MULTIDISCIPLINA
 R DE SAÚDE ITINERANTE-PROMASI
 
 
 Projeto que oferece atendimento mul
 tiprofissional itinerante à comunidade\, envolvendo Biomedicina\, Enferma
 gem e Nutrição. O programa realiza exames\, orientações e acompanhamen
 to de saúde\, contribuindo para prevenção de doenças e formação prá
 tica dos estudantes.
 
 Profa. Ma. Yonah Oliveira
 
 PSICOLOGIA
 
 
 
 PSICOLOGIA (EM) CENA – CINEMA\, PSICOLOGIA E TEMAS CONTEMPORÂNEOS
 
 
 
 Projeto que utiliza o cinema como ferramenta para discutir temas da P
 sicologia\, como trabalho\, luto e relações sociais. As sessões são ac
 ompanhadas de debates e grupos de estudo\, promovendo reflexão crítica e
  integração entre universidade e comunidade.
 
 Profa. Dra. Laura Soar
 es Martins Nogueira
 
 
 PLANTÃO PSICOLÓGICO A PARTIR DE MÚLTIPLOS O
 LHARES: GESTALT\, CENTRADA NA PESSOA\, TCC E PSICANÁLISE
 
 
 Projeto 
 que oferece atendimento psicológico em regime de plantão\, permitindo ac
 olhimento imediato de demandas emocionais. A iniciativa também funciona c
 omo espaço formativo para estudantes de Psicologia\, que atuam sob superv
 isão em diferentes abordagens terapêuticas.
 
 Profa.&nbsp\; Ma. Márc
 ia Wilma Monteiro de Araújo
 
 
 PSICOLOGIA ESCOLAR E EDUCACIONAL EM P
 ERSPECTIVA INSTITUCIONAL: INTERVENÇÕES PARA A PROMOÇÃO DA APRENDIZAGEM
 \, INCLUSÃO E SAÚDE MENTAL NA ESCOLA
 
 
 Projeto que desenvolve inte
 rvenções psicoeducativas em escolas públicas de Belém\, incluindo ofic
 inas com estudantes\, formação de professores e acompanhamento instituci
 onal. O objetivo é promover aprendizagem\, inclusão e saúde mental no a
 mbiente escolar.
 
 Prof. Dr. Elenson Gleison de Souza Medeiros
 
 
 
 PONTES – ACOLHIMENTO E TRIAGEM ESTRATÉGICA NO SERVIÇO-ESCOLA DE PSICOL
 OGIA\, DO CENTRO UNIVERSITÁRIO FIBRA
 
 
 Projeto que organiza o siste
 ma de triagem e acolhimento do Serviço-Escola de Psicologia da FIBRA\, qu
 alificando o fluxo de atendimento clínico e produzindo dados sobre as dem
 andas da comunidade. A iniciativa também fortalece a formação prática 
 dos estudantes.
 
 Profa. Ma. Vera Lúcia Fonseca de Souza
 
 MEDICINA
  VETERINÁRIA
 
 
 JORNALVET
 
 
 Projeto editorial que produz conte
 údos informativos sobre temas relevantes da medicina veterinária\, difun
 dindo conhecimento técnico e científico para a comunidade. A iniciativa 
 também desenvolve habilidades de escrita e análise crítica nos estudant
 es.
 
 Prof. Dr. Paulo Henrique Leal Bertolo
 
 
 A SAÚDE VAI À MES
 A
 
 
 Projeto educativo que orienta consumidores sobre a importância 
 da inspeção de produtos de origem animal para a saúde pública. As ativ
 idades ocorrem em feiras\, praças e supermercados\, com distribuição de
  material informativo e esclarecimentos à população.
 
 Profa. Dra. G
 erlane Nunes Noronha
 
DTSTART:20260310T030000Z
DTEND:20260321T025500Z
DTSTAMP:20260309T210309Z
ORGANIZER;CN=Portal de Eventos - Centro Universitário Fibra:MAILTO:eventos
 @fibrapara.edu.br
END:VEVENT
END:VCALENDAR