BEGIN:VCALENDAR
VERSION:2.0
PRODID:Events Booking
BEGIN:VEVENT
UID:69ea008cd7063
SUMMARY:Oficina de elaboração de Currículo Lattes 
DESCRIPTION:DESEJA ELABORAR CURRICULLUM PARA SELEÇÃO DE ESTÁGIO\, RESID
 ÊNCIA\, MESTRADO\, DOUTORADO OU EMPREGO?
 Então venha participar da ofi
 cina de elaboração de curricullum lattes
 1.O QUE É CURRICULLUM LATTES
 2.QUAL A IMPORTÂNCIA3.MANUSEIO DA PLATAFORMA LATTES4.COMO ELABORAR O CURR
 ICULLUM
 
DTSTART:20260312T170000Z
DTEND:20260312T210000Z
DTSTAMP:20260212T014024Z
ORGANIZER;CN=Portal de Eventos - Centro Universitário Fibra:MAILTO:eventos
 @fibrapara.edu.br
END:VEVENT
END:VCALENDAR