BEGIN:VCALENDAR
VERSION:2.0
PRODID:Events Booking
BEGIN:VEVENT
UID:69ea559e88c98
SUMMARY:Curso de Dietoterapia em problemas do trato gastrointestinal
DESCRIPTION:As doenças que acometem o trato gastrointestinal representam p
 roblemas com impacto direto no estado nutricional dos indivíduos\, pois i
 nterferem na ingestão\, digestão e absorção dos nutrientes levando a p
 rejuízos nutricional e até mesmo risco a vida. O manejo adequado destas 
 patologias é decisivo na remissão\, cura e/ou controle dessas doenças. 
 No presente\, têm se observado um aumento no número de casos de patologi
 as com essas características\, portanto\, profissionais capacitados para 
 esse manejo se faz necessário.
 O curso tem os seguintes objetivos:
 

  Oferecer atualização profissional sobre a conduta dietoterápica nas do
 enças gastrointestinais do adulto.
 Compreender a interação fármaco-n
 utriente nas doenças gastrintestinais.
 Conhecer o manejo nutricional em
  refluxo gastresofágico e dispepsia.
 Entender a conduta dietoterápica 
 na diarreia.
 Conhecer a dietoterapia aplicada a constipação intestinal
 \, divertículos e hemorroidas.
 Compreender o manejo nutricional adequad
 o para intolerância à lactose.
 Entender a conduta dietoterápica na do
 ença celíaca.
 Conhecer o manejo nutricional na síndrome do intestino 
 irritável.
 Conhecer a dietoterapia aplicada doenças inflamatórias int
 estinais.
 
 
LOCATION:Av. Gentil Bittencourt\, 1144.
DTSTART:20240914T120000Z
DTEND:20240914T210000Z
DTSTAMP:20240807T145019Z
ORGANIZER;CN=Portal de Eventos - Centro Universitário Fibra:MAILTO:eventos
 @fibrapara.edu.br
GEO:-1.455183;-48.482397
X-APPLE-STRUCTURED-LOCATION;VALUE=URI;X-ADDRESS=Av. Gentil Bittencourt\, 11
 44.;X-APPLE-RADIUS=72;X-TITLE=Centro Universitário Fibra:-1.455183;-48.48
 2397
END:VEVENT
END:VCALENDAR