BEGIN:VCALENDAR
VERSION:2.0
PRODID:Events Booking
BEGIN:VEVENT
UID:69ea2abcd98bb
SUMMARY:DIÁLOGOS AMAZÔNICOS EM ALIMENTAÇÃO E NUTRIÇÃO SÉRIE I: A MUL
 HER AMAZÔNICA NO CONTEXTO DA NUTRIÇÃO
DESCRIPTION:No contexto do Dia Internacional da Mulher\, comemorado anualme
 nte no dia 08/03 em diversos países com o objetivo de representar a hist
 ória de luta das mulheres na conquista de seus direitos. O curso de nutri
 ção cria como evento anual DIÁLOGOS AMAZÔNICOS EM ALIMENTAÇÃO E NUTR
 IÇÃO EM SÉRIE\, sendo que a Serie I será voltado a Mulher com a temát
 ica A MULHER AMAZÔNICA NO CONTEXTO DA NUTRIÇÃO\, sendo uma mesa redonda
  com temas atuais sobre a “Nutrição e sua relação na Fertilidade\, S
 indrome de Ovário Policistico (SOP) e Endometriose”\, levando em consid
 eração que cada uma dessas situações possui suas peculiaridades\, e&nb
 sp\;seguir uma alimentação saudável é fundamental para melhorar a qual
 idade de vida das mulheres em todas as suas fases. O evento contará com a
  coordenação da Liga Acadêmica de Nutrição e Saúde-LANS\, que é coo
 rdenada pelas professoras Ma. Thayana Moreira e Dra. Pilar Moraes. A mesa 
 redonda contará como palestrantes os nutricionistas Tayana Patricia Aleix
 o Sepeda e Lívia Valquíria Raposo Dickson Chen.
 Evento online:&nbsp\; 
 https://meet.google.com/ppt-xhto-iyr
 &nbsp\;
LOCATION:Av. Gentil Bittencourt\, 1144.
DTSTART:20240308T213000Z
DTEND:20240308T233000Z
DTSTAMP:20240227T220450Z
ORGANIZER;CN=Portal de Eventos - Centro Universitário Fibra:MAILTO:eventos
 @fibrapara.edu.br
GEO:-1.455183;-48.482397
X-APPLE-STRUCTURED-LOCATION;VALUE=URI;X-ADDRESS=Av. Gentil Bittencourt\, 11
 44.;X-APPLE-RADIUS=72;X-TITLE=Centro Universitário Fibra:-1.455183;-48.48
 2397
END:VEVENT
END:VCALENDAR