BEGIN:VCALENDAR
VERSION:2.0
PRODID:Events Booking
BEGIN:VEVENT
UID:69ea2d2141bce
SUMMARY:Salve o Dia do Nutricionista!
DESCRIPTION:Evento aberto ao público externo em comemoração ao dia do Nu
 tricionista.
 &nbsp\;
 &nbsp\;
LOCATION:Av. Gentil Bittencourt\, 1144.
DTSTART:20230831T120000Z
DTEND:20230831T150000Z
DTSTAMP:20230822T233640Z
ORGANIZER;CN=Portal de Eventos - Centro Universitário Fibra:MAILTO:eventos
 @fibrapara.edu.br
GEO:-1.455183;-48.482397
X-APPLE-STRUCTURED-LOCATION;VALUE=URI;X-ADDRESS=Av. Gentil Bittencourt\, 11
 44.;X-APPLE-RADIUS=72;X-TITLE=Centro Universitário Fibra:-1.455183;-48.48
 2397
END:VEVENT
END:VCALENDAR