BEGIN:VCALENDAR
VERSION:2.0
PRODID:Events Booking
BEGIN:VEVENT
UID:69e9fd4edc394
SUMMARY:Cine Psi -  Brilho Eterno de Uma Mente sem Lembranças (2004)
DESCRIPTION:O Cine Psi do mês de abril apresentará o filme&nbsp\;Brilho E
 terno de Uma Mente sem Lembranças&nbsp\;(EUA\, 2004)\, obra cinematográf
 ica aclamada e estrelada por Jim Carrey e Kate Winslet. o Cine Psi é ativ
 idade integrante do Projeto de Extensão&nbsp\;PSICOLOGIA (EM) CENA – CI
 NEMA\, PSICOLOGIA E TEMAS CONTEMPORÂNEOS
 
LOCATION:Av. Gentil Bittencourt\, 1144.
DTSTART:20260417T190000Z
DTEND:20260417T220000Z
DTSTAMP:20260416T224636Z
ORGANIZER;CN=Portal de Eventos - Centro Universitário Fibra:MAILTO:eventos
 @fibrapara.edu.br
GEO:-1.455183;-48.482397
X-APPLE-STRUCTURED-LOCATION;VALUE=URI;X-ADDRESS=Av. Gentil Bittencourt\, 11
 44.;X-APPLE-RADIUS=72;X-TITLE=Centro Universitário Fibra:-1.455183;-48.48
 2397
END:VEVENT
END:VCALENDAR