BEGIN:VCALENDAR
VERSION:2.0
PRODID:Events Booking
BEGIN:VEVENT
UID:69ea2a20aa120
SUMMARY:Cineclube Fibra: Patch Adams - O Amor é Contagioso
DESCRIPTION:Em alusão ao sucesso do I Congresso Amazônico de Medicina e I
 novação em Saúde\, o Cineclube Fibra exibirá\, no dia 2 de setembro\, 
 às 16h\, o filme \"Patch Adams - O Amor é Contagioso\". O evento é aber
 to para toda a comunidade acadêmica do Centro Universitário Fibra e para
  a sociedade em geral\, inclusive para todos os participantes do Congresso
 .
 Participe desse momento de reencontro dos congressistas e recordação
  de tudo o que foi vivenciado e aprendido durante o Congresso. Após a exi
 bição do filme\, haverá discussão dos temas nele tratados com o fisiot
 erapeuta Breno Pereira da Costa. A entrada é franca.
 &nbsp\;
 Evento a
 berto ao público externo.
LOCATION:Av. Gentil Bittencourt\, 1144.
DTSTART:20230902T190000Z
DTEND:20230902T220000Z
DTSTAMP:20230828T145039Z
ORGANIZER;CN=Portal de Eventos - Centro Universitário Fibra:MAILTO:eventos
 @fibrapara.edu.br
GEO:-1.455183;-48.482397
X-APPLE-STRUCTURED-LOCATION;VALUE=URI;X-ADDRESS=Av. Gentil Bittencourt\, 11
 44.;X-APPLE-RADIUS=72;X-TITLE=Centro Universitário Fibra:-1.455183;-48.48
 2397
END:VEVENT
END:VCALENDAR