BEGIN:VCALENDAR
VERSION:2.0
PRODID:Events Booking
BEGIN:VEVENT
UID:69ea3ebbe14f8
SUMMARY:Cineclube Fibra: Cidade de Deus
DESCRIPTION:Cidade de Deus&nbsp\;será o filme exibido pelo Cineclube Fibra
  no mês de abril\, excepcionalmente em uma quinta-feira\, dia 29\, como p
 arte integrante da Mostra de Extensão do Centro Universitário Fibra 2026
 . A obra retrata o crescimento do crime organizado na favela Cidade de Deu
 s\, no Rio de Janeiro\, desde sua formação nos anos 1960 até o cenário
  de violência dos anos 1980\, acompanhando a trajetória de diferentes pe
 rsonagens cujas histórias se entrelaçam\, sob o olhar de Buscapé\, prot
 agonista e narrador que\, apesar do ambiente hostil\, busca caminhos para 
 não se deixar levar pela criminalidade.&nbsp\;&nbsp\;
 
DTSTART:20260429T190000Z
DTEND:20260429T220000Z
DTSTAMP:20260422T165239Z
ORGANIZER;CN=Portal de Eventos - Centro Universitário Fibra:MAILTO:eventos
 @fibrapara.edu.br
END:VEVENT
END:VCALENDAR