BEGIN:VCALENDAR
VERSION:2.0
PRODID:Events Booking
BEGIN:VEVENT
UID:69ea2a4f65461
SUMMARY:I Ciclo de Formação Acadêmica Fibra
DESCRIPTION:O I Ciclo de Formação Acadêmica Fibra é uma iniciativa aber
 ta a toda a comunidade acadêmica e também à sociedade em geral\, que te
 m como objetivo fornecer\, de forma ampla\, novos aprendizados de maneira 
 transversal e interdisciplinar. O evento acontecerá no dia 25 de março. 
 Sua programação contará com temáticas extremamente contemporâneas e c
 onectadas aos 15 cursos de graduação do Centro Universitário Fibra.
LOCATION:Av. Gentil Bittencourt\, 1144.
DTSTART:20230325T110000Z
DTEND:20230325T150000Z
DTSTAMP:20230302T232354Z
ORGANIZER;CN=Portal de Eventos - Centro Universitário Fibra:MAILTO:eventos
 @fibrapara.edu.br
GEO:-1.455183;-48.482397
X-APPLE-STRUCTURED-LOCATION;VALUE=URI;X-ADDRESS=Av. Gentil Bittencourt\, 11
 44.;X-APPLE-RADIUS=72;X-TITLE=Centro Universitário Fibra:-1.455183;-48.48
 2397
END:VEVENT
END:VCALENDAR