BEGIN:VCALENDAR
VERSION:2.0
PRODID:Events Booking
BEGIN:VEVENT
UID:69ea40798cd96
SUMMARY:Aula Magna dos cursos de Pós-graduação em Redação e Revisão T
 extual em Língua Portuguesa e Gestão Educacional e Coordenação Pedagó
 gica
DESCRIPTION:No evento\, estarão presentes a coordenadora da Pós-graduaç
 ão\, professora Liliane Goudinho\, e os coordenadores dos cursos\, profes
 sor Gabriel Lage (Redação e Revisão Textual em Língua Portuguesa) e pr
 ofessor Jenijunio dos Santos (Gestão Educacional e Coordenação Pedagóg
 ica)\, que irão passar informações gerais sobre a pós-graduação e ca
 racterísticas específicas dos cursos.
 &nbsp\;
 Após as falas dos coo
 rdenadores\, a professora Luciane Teixeira da Silva conversará com o púb
 lico sobre o tema \"A função social da pós-graduação para uma Amazôn
 ia Sociobiodiversa\". Em seguida\, os presentes serão convidados a partic
 ipar de um coquetel.
 &nbsp\;
 O evento será aberto aos alunos matricul
 ados nos cursos\, assim como aos interessados nos temas que serão tratado
 s.
DTSTART:20241019T120000Z
DTEND:20241019T150000Z
DTSTAMP:20241017T141900Z
ORGANIZER;CN=Portal de Eventos - Centro Universitário Fibra:MAILTO:eventos
 @fibrapara.edu.br
END:VEVENT
END:VCALENDAR