BEGIN:VCALENDAR
VERSION:2.0
PRODID:Events Booking
BEGIN:VEVENT
UID:69ea55fabea80
SUMMARY:Aula Aberta “Introdução à Pesquisa para Docentes”
DESCRIPTION:A Aula Aberta “Introdução à Pesquisa para Docentes” tem 
 como objetivo orientar egressos da graduação e futuros alunos de cursos 
 de pós-graduação a identificar e formular possíveis temas de pesquisa.
  Além de esclarecer quais são os primeiros passos a serem dados no unive
 rso da pesquisa\, como a produção do projeto de pesquisa\, tipos de pesq
 uisa existentes e suas características.
 Público: interessados em ingre
 ssar em cursos de pós-graduação na área da docência (Letras\, pedagog
 ia\, história etc.)
 
LOCATION:Av. Gentil Bittencourt\, 1144.
DTSTART:20240817T110000Z
DTEND:20240817T150000Z
DTSTAMP:20240622T155624Z
ORGANIZER;CN=Portal de Eventos - Centro Universitário Fibra:MAILTO:eventos
 @fibrapara.edu.br
GEO:-1.455183;-48.482397
X-APPLE-STRUCTURED-LOCATION;VALUE=URI;X-ADDRESS=Av. Gentil Bittencourt\, 11
 44.;X-APPLE-RADIUS=72;X-TITLE=Centro Universitário Fibra:-1.455183;-48.48
 2397
END:VEVENT
END:VCALENDAR