BEGIN:VCALENDAR
VERSION:2.0
PRODID:Events Booking
BEGIN:VEVENT
UID:69ea2f3211670
SUMMARY:Curso de Atualização Materno-infantil
DESCRIPTION:Para um aluno de graduação ou pós-graduação\, stricto ou l
 ato senso\, realizar a avaliação nutricional em gestantes é importante 
 conhecer os avanços e novas curvas para este procedimento\, bem como tria
 gem nutricional em neonatologia e pediatria.
 O curso tem os seguintes ob
 jetivos:
 
 Oferecer atualização profissional sobre as novas curvas de
  avaliação nutricional da gestante\, triagem nutricional em neonatologia
  e pediatria.
 Conhecer as novas curvas para avaliação da gestante e se
 us parâmetros\;
 Conhecer a Ferramenta de Avaliação e Risco Nutriciona
 l em Neonatologia\;
 Conhecer a Triagem Nutricional em Pediatria.
 
 &n
 bsp\;
 O curso será realizado com o número mínimo de 15 inscrições.
 
 
LOCATION:Av. Gentil Bittencourt\, 1144.
DTSTART:20240819T210000Z
DTEND:20240821T010000Z
DTSTAMP:20240807T142201Z
ORGANIZER;CN=Portal de Eventos - Centro Universitário Fibra:MAILTO:eventos
 @fibrapara.edu.br
GEO:-1.455183;-48.482397
X-APPLE-STRUCTURED-LOCATION;VALUE=URI;X-ADDRESS=Av. Gentil Bittencourt\, 11
 44.;X-APPLE-RADIUS=72;X-TITLE=Centro Universitário Fibra:-1.455183;-48.48
 2397
END:VEVENT
END:VCALENDAR