BEGIN:VCALENDAR
VERSION:2.0
PRODID:Events Booking
BEGIN:VEVENT
UID:69ea01bd614a0
SUMMARY:Atualização em Doenças Infecciosas: Diagnóstico e Tratamento
DESCRIPTION:Em um cenário de constantes desafios na saúde pública\, a pr
 ecisão no&nbsp\;diagnóstico e a agilidade no tratamento são decisivas. 
 Pensando nisso\, o Centro Universitário Fibra promove o&nbsp\;Curso de At
 ualização em Doenças Infecciosas: diagnóstico e tratamento\, um evento
  essencial para médicos\, acadêmicos de medicina e os demais profissiona
 is e estudantes da área da saúde\, que buscam excelência no diagnóstic
 o e na&nbsp\;prática clínica diária.
 Voltado para quem atua na linha 
 de frente do atendimento e do diagnóstico\, o curso foi desenhado para ab
 ordar temas de grande relevância e atualidade\, com foco na aplicação p
 rática do conhecimento. Será um dia de imersão\, ministrado por médico
 s especialistas\, mestres e doutores que trarão as mais recentes evidênc
 ias científicas e protocolos clínicos.
 &nbsp\;
 &nbsp\;
 Principais 
 Temas em Destaque:
 
 Mpox:&nbsp\;Da suspeita à confirmação laborator
 ial e manejo clínico.
 Meningites:&nbsp\;Abordagem diagnóstica rápida 
 e tratamento eficaz.
 Infecções na Gestação:&nbsp\;Toxoplasmose e Cit
 omegalovírus – riscos\, diagnóstico e conduta.
 Sepse:&nbsp\;Atualiza
 ções no&nbsp\;bundlede tratamento e a corrida contra o tempo.
 Infecç
 ões Gastrointestinais:&nbsp\;Agentes emergentes e condutas.
 Abordagem M
 oderna Osteomielite Hematogênica Aguda:&nbsp\;Do reconhecimento a terapia
  eficiente.
 Novo Hemograma nas Doenças Infecciosas:&nbsp\;Interpretaç
 ão de parâmetros avançados como ferramenta auxiliar.
 Outras doenças 
 de interesse regional\,&nbsp\;completando um panorama abrangente para o pr
 ofissional.
 
 É mais do que um curso\; é uma oportunidade de&nbsp\;re
 finar a tomada de decisão\, trocar experiências com colegas e especialis
 tas\, e estar preparado para os desafios impostos pelas doenças infeccios
 as no cenário atual.
 Valores:
 1º Lote – até 23 de dezembro de 202
 5Estudantes e técnicos – R$ 110\,00Profissionais de nível superior –
  R$ 160\,00
 2º lote - De 24 de dezembro/2025 a 06 de fevereiro de 2026E
 studantes e técnicos – R$ 130\,00Profissionais de nível superior – R
 $ 180\,00
 3º Lote – 07 de fevereiro/2026 a 28 de março de 2026Estuda
 ntes e técnicos – R$ 150\,00Profissionais de nível superior – R$ 200
 \,00
 Vagas Limitadas:&nbsp\;Para garantir a qualidade e a interação\, 
 teremos&nbsp\;apenas 200 vagas.
 Coquetel de encerramento (Kit Banquete V
 ila Galé). A exclusividade é um dos nossos diferenciais.
 &nbsp\;
 
 
 APOIO:
 
 
 
 
 
 
 
 
 
 
 
 
 
 
 
 
 &nbsp\;
LOCATION:Av. Mal. Hermes\, S/N - Umarizal\, Belém - PA\, 66053-150
DTSTART:20260328T110000Z
DTEND:20260328T210000Z
DTSTAMP:20251107T040547Z
ORGANIZER;CN=Portal de Eventos - Centro Universitário Fibra:MAILTO:eventos
 @fibrapara.edu.br
GEO:-1.443063;-48.495587
X-APPLE-STRUCTURED-LOCATION;VALUE=URI;X-ADDRESS=Av. Mal. Hermes\, S/N - Uma
 rizal\, Belém - PA\, 66053-150;X-APPLE-RADIUS=72;X-TITLE=Hotel Vila Galé
  Belém:-1.443063;-48.495587
END:VEVENT
END:VCALENDAR