BEGIN:VCALENDAR
VERSION:2.0
PRODID:Events Booking
BEGIN:VEVENT
UID:69ea567289ce9
SUMMARY:Atualidades na Medicina Veterinária
DESCRIPTION:O I ciclo de palestras sobre atualidades na medicina veterinár
 ia conta com profissionais “experts” nas áreas de ortopedia\, anestes
 iologia\, reprodução e microbiologia que já estão inseridos no mercado
  e que tem muito a contribuir para os futuros profissionais\, venham&nbsp\
 ;participar!
 &nbsp\;
 PROGRAMAÇÃO14:00 - M.V. Especialista Bernard Sa
 lame Tema: Indução de coma na medicina veterinária.
 15:00- M.V. Espec
 ialista Gisele GayaTema: Atualidades em cultura e antibiograma.
 16:00 M.
 V. Especialista Leonardo Costa Tema: Atualidades em ortopedia.
 17:00 M.E
 . Roberta Araújo Tema: Atualidades em Reprodução&nbsp\;de&nbsp\;equinos
 
 &nbsp\;
 
 &nbsp\;
LOCATION:Av. Gentil Bittencourt\, 1144.
DTSTART:20240508T170000Z
DTEND:20240508T210000Z
DTSTAMP:20240507T175058Z
ORGANIZER;CN=Portal de Eventos - Centro Universitário Fibra:MAILTO:eventos
 @fibrapara.edu.br
GEO:-1.455183;-48.482397
X-APPLE-STRUCTURED-LOCATION;VALUE=URI;X-ADDRESS=Av. Gentil Bittencourt\, 11
 44.;X-APPLE-RADIUS=72;X-TITLE=Centro Universitário Fibra:-1.455183;-48.48
 2397
END:VEVENT
END:VCALENDAR