BEGIN:VCALENDAR
VERSION:2.0
PRODID:Events Booking
BEGIN:VEVENT
UID:69e9fd5b369e9
SUMMARY:A importância da escuta ativa no acolhimento e encaminhamentos nos
  CAPS
DESCRIPTION:Como parte do processo seletivo para o Projeto de Extensão int
 itulado “Pontes – Acolhimento e Triagem estratégica no Serviço-Escol
 a de Psicologia”\, o Curso de Psicologia\, do Centro Universitário FIBR
 A\, convida a comunidade acadêmica em geral e os discentes inscritos na p
 rimeira etapa do referido Projeto\, em particular\, a participarem do even
 to abaixo discriminado. O objetivo é apresentar aspectos importantes de p
 rocesso de triagem psicológica\, bem como realizar\, ao final do mesmo\, 
 a segunda etapa da seleção dos discentes que comporão a equipe do proje
 to.
 &nbsp\;
 CONVIDADA:
 Karina Helaine de Lima Coelho. Psicóloga. Do
 utorado em Psicologia (UFPA - 2022-2026). Psicóloga na Fundação Santa C
 asa de Misericórdia do Pará e na Secretaria Executiva de Saúde Pública
  do Pará. experiência na área de Psicologia\, com ênfase em Psicologia
  da Saúde\, Psicologia Hospitalar e Saúde Mental.
 MEDIADORA:
 Vera Lu
 cia Fonseca de Souza. Psicóloga e Docente do Centro Universitário Fibra.
  Mestre em Psicologia (UFPA). Doutoranda (PPGP/UFPA). Atualmente desenvolv
 endo atividades técnicas na Coordenação Estadual de Saúde Mental\, Ál
 cool e outras Drogas- CESMAD/SESPA Coordenadora do Projeto de Extensão 
 “Pontes – Acolhimento e Triagem estratégica no Serviço-Escola de Psi
 cologia”
 
LOCATION:Av. Gentil Bittencourt\, 1144.
DTSTART:20260414T113000Z
DTEND:20260414T143000Z
DTSTAMP:20260406T211702Z
ORGANIZER;CN=Portal de Eventos - Centro Universitário Fibra:MAILTO:eventos
 @fibrapara.edu.br
GEO:-1.455183;-48.482397
X-APPLE-STRUCTURED-LOCATION;VALUE=URI;X-ADDRESS=Av. Gentil Bittencourt\, 11
 44.;X-APPLE-RADIUS=72;X-TITLE=Centro Universitário Fibra:-1.455183;-48.48
 2397
END:VEVENT
END:VCALENDAR