BEGIN:VCALENDAR
VERSION:2.0
PRODID:Events Booking
BEGIN:VEVENT
UID:69ecac2011b6b
SUMMARY:13ª Semana de Enfermagem - Dia 1 - Manhã
DESCRIPTION:
 08:00 - 08:30: Credenciamento e Recepção dos Participantes
 
 08:30 - 09:00: Solenidade de Abertura
 
 Pronunciamento da Coordenaç
 ão do Curso de Enfermagem Profa Enfa Cinthia Brigida.
 Mensagem de Abert
 ura do Reitor Prof. Vicente de Paulo Tavares Noronha e Pró Reitora Acadê
 mica Profa Irene Noronha Seabra.
 Homenagem a Dra. Nazaré Ataíde (in me
 moriam) 
 – Hino da Enfermagem
 
 
 09:00 - 10:00: Mesa Redonda: O P
 apel da Enfermagem na Promoção da Saúde na Atenção Primária
 
 Pal
 estrante 1: Profa Enfa Benedita Abreu Leão - Centro Universitário Fibra
 
 Palestrante 2: Profa Enfa Socorro Dionizio - Centro Universitário Fibra
 
 Palestrante 3: Profa Aloma Sena Soares - Enfermeira de Saúde da Famíl
 ia pela Universidade do Estado do Pará (UEPA)
 Moderador(a): Profa Enfa.
  Cinthia Brigida – Centro Universitário FIBRA
 
 
 10:00 - 10:10: In
 tervalo – SORTEIO DE BRINDE
 10:10 - 13:00: Apresentação dos Trabalho
 s da Curricularização (Bloco 1)
 
 
 Trabalho 1: PNEUMONIA E DEGRADA
 ÇÃO AMBIENTAL: A ATUAÇÃO DA ENFERMAGEM DIANTE DOS IMPACTOS DO DESMATAM
 ENTO.
 Trabalho 2: A INFLUÊNCIA DO CLIMA NAS CRISES DE BRONQUITE E ABORD
 AGENS MEDICINAIS NO TRATAMENTO
 Trabalho 3: O AUMENTO DA TEMPERATURA GLOB
 AL E SUAS CONSEQUÊNCIAS PARA A SAÚDE DA POPULAÇÃO AMAZÔNICA
 Trabalh
 o 4: IMPACTOS DAS MUDANÇAS CLIMÁTICAS NA EXACERBAÇÃO DAS INFECÇÕES D
 AS VIAS AÉREAS SUPERIORES EM CRIANÇAS.
 Trabalho 5: COP 30 E A CRISE IN
 VISÍVEL: A POLUIÇÃO ATMOSFÉRICA NA ASMA
 Trabalho 6: QUEIMADAS NA AMA
 ZÔNIA E IMPLICAÇÕES PARA PACIENTES ASMÁTICOS
 Trabalho 7: BRONQUEOLIT
 E INFANTIL E SUAS COMPLICAÇÕES
 Trabalho 8: ESTRATÉGIAS DE ENFERMAGEM 
 NA PREVENÇÃO E CONTROLE DA MALÁRIA EM COMUNIDADES AMAZÔNICAS AFETADAS 
 PELAS MUDANÇAS CLIMÁTICAS.
 
 
LOCATION:Av. Gentil Bittencourt\, 1144.
DTSTART:20250512T110000Z
DTEND:20250512T160000Z
DTSTAMP:20250508T001608Z
ORGANIZER;CN=Portal de Eventos - Centro Universitário Fibra:MAILTO:eventos
 @fibrapara.edu.br
GEO:-1.455183;-48.482397
X-APPLE-STRUCTURED-LOCATION;VALUE=URI;X-ADDRESS=Av. Gentil Bittencourt\, 11
 44.;X-APPLE-RADIUS=72;X-TITLE=Centro Universitário Fibra:-1.455183;-48.48
 2397
END:VEVENT
END:VCALENDAR