BEGIN:VCALENDAR
VERSION:2.0
PRODID:Events Booking
BEGIN:VEVENT
UID:69ea69ce39061
SUMMARY:Luta antimanicomial: perspectivas de cuidado a partir de práticas 
 psi
DESCRIPTION:
LOCATION:Av. Gentil Bittencourt\, 1144.
DTSTART:20240529T133000Z
DTEND:20240529T150000Z
DTSTAMP:20240523T220303Z
ORGANIZER;CN=Portal de Eventos - Centro Universitário Fibra:MAILTO:eventos
 @fibrapara.edu.br
GEO:-1.455183;-48.482397
X-APPLE-STRUCTURED-LOCATION;VALUE=URI;X-ADDRESS=Av. Gentil Bittencourt\, 11
 44.;X-APPLE-RADIUS=72;X-TITLE=Centro Universitário Fibra:-1.455183;-48.48
 2397
END:VEVENT
END:VCALENDAR