BEGIN:VCALENDAR
VERSION:2.0
PRODID:Events Booking
BEGIN:VEVENT
UID:69eca5b61920a
SUMMARY:Caminhos da experiência discente em estágios na rede de atenção
  à saúde mental
DESCRIPTION:Roda de conversa 2: Caminhos da experiência discente em estág
 ios na rede de atenção à saúde mental
 Participantes:
 Nadia Karime 
 Moraes Sena (PS03MB): Aumento do índice de casos de autolesão no CAPS In
 fantil
 Glenda Maria Coelho Nobre (PS05MA): O papel do CAPS na inserção
  psicossocial de indivíduos com casos graves ou persistentes: reflexões 
 de experiência atuando na casa mental do adulto
 Mediadora:
 Profa. Ma.
  Márcia Araújo
 HORA: 8 às 10h.
LOCATION:Av. Gentil Bittencourt\, 1144.
DTSTART:20240529T110000Z
DTEND:20240529T130000Z
DTSTAMP:20240523T220303Z
ORGANIZER;CN=Portal de Eventos - Centro Universitário Fibra:MAILTO:eventos
 @fibrapara.edu.br
GEO:-1.455183;-48.482397
X-APPLE-STRUCTURED-LOCATION;VALUE=URI;X-ADDRESS=Av. Gentil Bittencourt\, 11
 44.;X-APPLE-RADIUS=72;X-TITLE=Centro Universitário Fibra:-1.455183;-48.48
 2397
END:VEVENT
END:VCALENDAR