BEGIN:VCALENDAR
VERSION:2.0
PRODID:Events Booking
BEGIN:VEVENT
UID:69eca5b711a47
SUMMARY:CAPS AD: Dos encontros e desencontros de Estágio na perspectiva de
  discentes de Psicologia
DESCRIPTION:Participantes:
 Milena Beatriz Navegantes Gomes (PS03MA): Troc
 as vivenciais com usuários no CAPS AD
 Mariane Alves Monteiro Canuto (PS
 03MA): Expectivas e realidade do estágio no CAPS AD
 Rômulo Matheus Alv
 es Queiroz (PS03MA): Carência de Profissionais no CAPS AD
 Mediador:
 P
 rof. Dr. Ronildo Silva
 HORA: 8 às 10h.
LOCATION:Av. Gentil Bittencourt\, 1144.
DTSTART:20240529T110000Z
DTEND:20240529T130000Z
DTSTAMP:20240523T220303Z
ORGANIZER;CN=Portal de Eventos - Centro Universitário Fibra:MAILTO:eventos
 @fibrapara.edu.br
GEO:-1.455183;-48.482397
X-APPLE-STRUCTURED-LOCATION;VALUE=URI;X-ADDRESS=Av. Gentil Bittencourt\, 11
 44.;X-APPLE-RADIUS=72;X-TITLE=Centro Universitário Fibra:-1.455183;-48.48
 2397
END:VEVENT
END:VCALENDAR