BEGIN:VCALENDAR
VERSION:2.0
PRODID:Events Booking
BEGIN:VEVENT
UID:69ea3f6af0413
SUMMARY:Tecnologias de Informação Baseadas em Inteligência Artificial Vo
 ltadas para Distribuição de Doenças Infecciosas no Estado do Pará
DESCRIPTION:
LOCATION:Av. Gentil Bittencourt\, 1144.
DTSTART:20250822T170000Z
DTEND:20250822T210000Z
DTSTAMP:20250127T033642Z
ORGANIZER;CN=Portal de Eventos - Centro Universitário Fibra:MAILTO:eventos
 @fibrapara.edu.br
GEO:-1.455183;-48.482397
X-APPLE-STRUCTURED-LOCATION;VALUE=URI;X-ADDRESS=Av. Gentil Bittencourt\, 11
 44.;X-APPLE-RADIUS=72;X-TITLE=Centro Universitário Fibra:-1.455183;-48.48
 2397
END:VEVENT
END:VCALENDAR