BEGIN:VCALENDAR
VERSION:2.0
PRODID:Events Booking
BEGIN:VEVENT
UID:69ea6a12de1f1
SUMMARY:Reabilitação Aplicada à Reumatologia
DESCRIPTION:&nbsp\;Curso teórico abordando conceitos de Reumatologia\, pri
 ncipais doenças\, avaliação do paciente reumatológico\, principais pr
 áticas de reabilitação baseadas em evidências em reumatologia
LOCATION:Av. Gentil Bittencourt\, 1144.
DTSTART:20230415T113000Z
DTEND:20230415T150000Z
DTSTAMP:20230327T210742Z
ORGANIZER;CN=Portal de Eventos - Centro Universitário Fibra:MAILTO:eventos
 @fibrapara.edu.br
GEO:-1.455183;-48.482397
X-APPLE-STRUCTURED-LOCATION;VALUE=URI;X-ADDRESS=Av. Gentil Bittencourt\, 11
 44.;X-APPLE-RADIUS=72;X-TITLE=Centro Universitário Fibra:-1.455183;-48.48
 2397
END:VEVENT
END:VCALENDAR