BEGIN:VCALENDAR
VERSION:2.0
PRODID:Events Booking
BEGIN:VEVENT
UID:69ea54083e1fb
SUMMARY:II Ciclo de Formação Acadêmica Fibra
DESCRIPTION:O II Ciclo de Formação Acadêmica Fibra é uma iniciativa abe
 rta a toda a comunidade acadêmica e também à sociedade em geral\, que t
 em como objetivo fornecer\, de forma ampla\, novos aprendizados de maneira
  transversal e interdisciplinar. O evento acontecerá no dia 15 de abril. 
 Sua programação contará com temáticas extremamente contemporâneas e c
 onectadas aos 15 cursos de graduação do Centro Universitário Fibra.
LOCATION:Av. Gentil Bittencourt\, 1144.
DTSTART:20230415T110000Z
DTEND:20230415T150000Z
DTSTAMP:20230327T210742Z
ORGANIZER;CN=Portal de Eventos - Centro Universitário Fibra:MAILTO:eventos
 @fibrapara.edu.br
GEO:-1.455183;-48.482397
X-APPLE-STRUCTURED-LOCATION;VALUE=URI;X-ADDRESS=Av. Gentil Bittencourt\, 11
 44.;X-APPLE-RADIUS=72;X-TITLE=Centro Universitário Fibra:-1.455183;-48.48
 2397
END:VEVENT
END:VCALENDAR