BEGIN:VCALENDAR
VERSION:2.0
PRODID:Events Booking
BEGIN:VEVENT
UID:69e8d6c720e59
SUMMARY:Curso de Extensão \"Anatomia Aplicada à Antropometria na Avaliaç
 ão Nutricional\"
DESCRIPTION:O curso tem como objetivo reforçar a segurança do universitá
 rio e/ou profissional de Nutrição na aferição das medidas antropométr
 icas\, de modo a realizá-las no ponto anatômico adequado\, para\, assim\
 , aumentar a precisão e possibilitar análise de composição corporal ma
 is fidedigna para o diagnóstico nutricional e posterior conduta dietoter
 ápica.
 Dias: 27/02\, 28/02 e 01/03Horário: de 14h às 18h
 Conteúdo 
 Programático:Anatomia Humana – reconhecimentos de estruturas de import
 ância para a antropometria\;Técnicas de reconhecimento e marcação dos 
 pontos anatômicos\;Técnicas de aferição de dobras cutâneas e circunfe
 rências\;Diagnóstico nutricional a partir da antropometria.
 Curso aber
 to ao público externo.
LOCATION:Av. Gentil Bittencourt\, 1144.
DTSTART:20230227T170000Z
DTEND:20230301T210000Z
DTSTAMP:20230203T161856Z
ORGANIZER;CN=Portal de Eventos - Centro Universitário Fibra:MAILTO:eventos
 @fibrapara.edu.br
GEO:-1.455183;-48.482397
X-APPLE-STRUCTURED-LOCATION;VALUE=URI;X-ADDRESS=Av. Gentil Bittencourt\, 11
 44.;X-APPLE-RADIUS=72;X-TITLE=Centro Universitário Fibra:-1.455183;-48.48
 2397
END:VEVENT
END:VCALENDAR