BEGIN:VCALENDAR
VERSION:2.0
PRODID:Events Booking
BEGIN:VEVENT
UID:69e8d74225a02
SUMMARY:Curso de Extensão Alimentação Vegetariana: Teoria e Prática
DESCRIPTION:O curso tem como objetivos oferecer conhecimento na área de ve
 getarianismo\; contará com aula teórica sobre nutrição e alimentação
  vegetariana e aula prática sobre gastronomia vegetariana com execução 
 e degustação de três receitas com proteínas vegetais.
 O vegetarianis
 mo cresce cada vez mais no Brasil e no mundo\, por isso é importante o es
 tudante e o profissional de Nutrição e de Gastronomia\, assim como o ind
 ivíduo que pretende mudar seu hábito alimentar\, ter propriedade sobre e
 ste estilo de vida. Após o curso\, o aluno estará capacitado a compreend
 er de forma mais abrangente o público vegetariano e a melhor atendê-lo\;
  diferenciar-se no mercado\, sendo um profissional mais inclusivo\, aument
 ando sua clientela\; e ser um indivíduo mais saudável e promotor da sua 
 própria saúde.
 Público: Acadêmicos e profissionais de Nutrição e G
 astronomia e demais interessados em aprofundar seus conhecimentos sobre nu
 trição e alimentação vegetariana e iniciar a prática da gastronomia v
 egetariana.
 
LOCATION:Av. Gentil Bittencourt\, 1144.
DTSTART:20240413T120000Z
DTEND:20240413T210000Z
DTSTAMP:20240222T210819Z
ORGANIZER;CN=Portal de Eventos - Centro Universitário Fibra:MAILTO:eventos
 @fibrapara.edu.br
GEO:-1.455183;-48.482397
X-APPLE-STRUCTURED-LOCATION;VALUE=URI;X-ADDRESS=Av. Gentil Bittencourt\, 11
 44.;X-APPLE-RADIUS=72;X-TITLE=Centro Universitário Fibra:-1.455183;-48.48
 2397
END:VEVENT
END:VCALENDAR