BEGIN:VCALENDAR
VERSION:2.0
PRODID:Events Booking
BEGIN:VEVENT
UID:69e9eb434c079
SUMMARY:Alerta Biológico
DESCRIPTION:Em tempos de crise climática é hora de discutir suas consequ
 ências: Alerta Biológico sobre Dengue\, Influenza\, COVID\, Oropouche e 
 Mayaro.
 
LOCATION:Av. Gentil Bittencourt\, 1144.
DTSTART:20240617T220000Z
DTEND:20240618T000000Z
DTSTAMP:20240517T142735Z
ORGANIZER;CN=Portal de Eventos - Centro Universitário Fibra:MAILTO:eventos
 @fibrapara.edu.br
GEO:-1.455183;-48.482397
X-APPLE-STRUCTURED-LOCATION;VALUE=URI;X-ADDRESS=Av. Gentil Bittencourt\, 11
 44.;X-APPLE-RADIUS=72;X-TITLE=Centro Universitário Fibra:-1.455183;-48.48
 2397
END:VEVENT
END:VCALENDAR