BEGIN:VCALENDAR
VERSION:2.0
PRODID:Events Booking
BEGIN:VEVENT
UID:69e9eba0b4ba4
SUMMARY:Curso de Extensão em Administração de Medicamentos
DESCRIPTION:Este curso visa contribuir para com a qualificação de profiss
 ionais de saúde quanto ao preparo e administração de medicamentos no in
 tuito de promover o uso seguro de medicamentos no âmbito hospitalar.
 &n
 bsp\;Cada turma só iniciará quando atingir o número mínimo de 15 aluno
 s inscritos.
 
LOCATION:Av. Gentil Bittencourt\, 1144.
DTSTART:20231111T110000Z
DTEND:20231111T160000Z
DTSTAMP:20231004T184444Z
ORGANIZER;CN=Portal de Eventos - Centro Universitário Fibra:MAILTO:eventos
 @fibrapara.edu.br
GEO:-1.455183;-48.482397
X-APPLE-STRUCTURED-LOCATION;VALUE=URI;X-ADDRESS=Av. Gentil Bittencourt\, 11
 44.;X-APPLE-RADIUS=72;X-TITLE=Centro Universitário Fibra:-1.455183;-48.48
 2397
END:VEVENT
END:VCALENDAR