BEGIN:VCALENDAR
VERSION:2.0
PRODID:Events Booking
BEGIN:VEVENT
UID:69e930f9045a7
SUMMARY:IX Encontro de Literatura Afro-brasileira - Vozes Negras: Resistên
 cia e Representatividade na Literatura
DESCRIPTION:Acontecerá no dia 8 de maio de 2025\, a partir das 18h50\, no 
 Auditório do Centro Universitário Fibra\, a nona edição do Encontro de
  Literatura Afro-brasileira\, promovido pelo Curso de Letras Licenciatura 
 desta Instituição.
 A edição deste ano contará com atrações cultur
 ais\, palestras e apresentação de comunicações dos alunos.
 
LOCATION:Av. Gentil Bittencourt\, 1144.
DTSTART:20250508T215000Z
DTEND:20250509T010000Z
DTSTAMP:20250506T131656Z
ORGANIZER;CN=Portal de Eventos - Centro Universitário Fibra:MAILTO:eventos
 @fibrapara.edu.br
GEO:-1.455183;-48.482397
X-APPLE-STRUCTURED-LOCATION;VALUE=URI;X-ADDRESS=Av. Gentil Bittencourt\, 11
 44.;X-APPLE-RADIUS=72;X-TITLE=Centro Universitário Fibra:-1.455183;-48.48
 2397
END:VEVENT
END:VCALENDAR