BEGIN:VCALENDAR
VERSION:2.0
PRODID:Events Booking
BEGIN:VEVENT
UID:69e79914b3b50
SUMMARY:I Simpósio de Saúde em Enfermagem\, Sustentabilidade e Justiça C
 limática (13 - Manhã)
DESCRIPTION:Programação
 &nbsp\;
 
 
 
 Horário
 
 
 Tema do Pro
 jeto
 
 
 Professor Orientador
 
 
 Alunos (Representantes)
 
 
 
 
 
 
 
 08:00
 
 
 Polpa de Frutas e Gastroenterites
 
 
 Benedi
 ta Abreu Leão
 
 
 Adryana Kaylane et al.
 
 
 
 
 08:15
 
 
 
 Consumo de Açaí e Doença de Chagas
 
 
 Benedita Abreu
 
 
 Glend
 a Jamilly et al.
 
 
 
 
 08:30
 
 
 Lanches e Enteroparasitoses

  
 
 Nicole Jucá Monteiro
 
 
 Danielle Larissa et al.
 
 
 
 

  08:45
 
 
 Mariscos e Risco de Cólera
 
 
 Nicole Jucá Monteiro

  
 
 Adriane Quaresma et al.
 
 
 
 
 09:00
 
 
 Hortaliças e A
 mebíase
 
 
 Mª Perpétuo Socorro
 
 
 Jamille Borges et al.
 
 
 
 
 
 09:15
 
 
 Refeições e Salmonelose
 
 
 Mª Perpétuo Soc
 orro
 
 
 Juliana de Lima et al.
 
 
 
 
 09:30
 
 
 Chagas e V
 ulnerabilidade
 
 
 Mª Perpétuo Socorro
 
 
 Julliany Mendes et al
 .
 
 
 
 
 09:45
 
 
 Prevenção de Gastroenterite
 
 
 Katia 
 do Socorro Lima
 
 
 Laena Cristina et al.
 
 
 
 
 10:00
 
 
 
 Escherichiose em Polpas Nativas
 
 
 Katia do Socorro Lima
 
 
 Kari
 na de Nazaré et al.
 
 
 
 
 10:15
 
 
 Mariscos e Hepatite A
 
 
 
 Katia do Socorro Lima
 
 
 Ana Beatriz et al.
 
 
 
 
 10:30
 
 
 
 Higiene Ambiental e Salmonelose
 
 
 Benedita Abreu Leão
 
 
 
 Waldimeire et al.
 
 
 
 
 10:45
 
 
 Hortaliças e Giardíase
 
 
 
 Benedita Abreu Leão
 
 
 Isabelle Saavedra et al.
 
 
 
 
LOCATION:Av. Gentil Bittencourt\, 1144.
DTSTART:20260513T110000Z
DTEND:20260513T150000Z
DTSTAMP:20260413T172337Z
ORGANIZER;CN=Portal de Eventos - Centro Universitário Fibra:MAILTO:eventos
 @fibrapara.edu.br
GEO:-1.455183;-48.482397
X-APPLE-STRUCTURED-LOCATION;VALUE=URI;X-ADDRESS=Av. Gentil Bittencourt\, 11
 44.;X-APPLE-RADIUS=72;X-TITLE=Centro Universitário Fibra:-1.455183;-48.48
 2397
END:VEVENT
END:VCALENDAR