BEGIN:VCALENDAR
VERSION:2.0
PRODID:Events Booking
BEGIN:VEVENT
UID:69ea579cbf4aa
SUMMARY:Inovação e Tecnologia na Enfermagem - tarde
DESCRIPTION:&nbsp\;PROGRAMAÇÃO
 
 14:00 - 15:30: Palestra: Setembro Ver
 de: Mês de Sensibilização para a Doação de Órgãos/ CIHDOTT do Hospi
 tal Metropolitano de Urgência e Emergência (HMUE). Equipe Multiprofissio
 nal
 15:30 - 16:00: Apresentação de Trabalhos (Sessão de Pôsteres)
 
 16:00 - 17:00: Palestra: “A Revolução do Cuidado: Curativos Tecnológi
 cos e o Futuro do Tratamento de Feridas\" Enfermeira Dra Liana Teixeira - 
 Mentora
 &nbsp\;17:00 - 17:30: Sorteio e Encerramento do Primeiro Dia
 
 
 &nbsp\;
LOCATION:Av. Gentil Bittencourt\, 1144.
DTSTART:20250929T170000Z
DTEND:20250929T203000Z
DTSTAMP:20250902T203337Z
ORGANIZER;CN=Portal de Eventos - Centro Universitário Fibra:MAILTO:eventos
 @fibrapara.edu.br
GEO:-1.455183;-48.482397
X-APPLE-STRUCTURED-LOCATION;VALUE=URI;X-ADDRESS=Av. Gentil Bittencourt\, 11
 44.;X-APPLE-RADIUS=72;X-TITLE=Centro Universitário Fibra:-1.455183;-48.48
 2397
END:VEVENT
END:VCALENDAR