BEGIN:VCALENDAR
VERSION:2.0
PRODID:Events Booking
BEGIN:VEVENT
UID:69eca6f4858f6
SUMMARY:Inovação e Tecnologia na Enfermagem - manhã
DESCRIPTION:PROGRAMAÇÃO&nbsp\;
 Dia 29/09/2025: Inovação e Tecnologia 
 na Enfermagem
 
 08:00 - 09:00: Credenciamento e Abertura Oficial – Hi
 no da Enfermagem
 09:00 - 10:00: Palestra Magna: \"O Futuro da Enfermagem
 : Desafios e Oportunidades na Era Digital\" Profa Dra Ingrid Magali Piment
 el - UEPa
 10:30 - 12:00: Palestra: \"Telesaúde e a Enfermagem: Impacto\
 , Regulamentação e Boas Práticas.
 12:00 - 14:00: Intervalo para Almo
 ço
 
 &nbsp\;
LOCATION:Av. Gentil Bittencourt\, 1144.
DTSTART:20250929T110000Z
DTEND:20250929T150000Z
DTSTAMP:20250902T203337Z
ORGANIZER;CN=Portal de Eventos - Centro Universitário Fibra:MAILTO:eventos
 @fibrapara.edu.br
GEO:-1.455183;-48.482397
X-APPLE-STRUCTURED-LOCATION;VALUE=URI;X-ADDRESS=Av. Gentil Bittencourt\, 11
 44.;X-APPLE-RADIUS=72;X-TITLE=Centro Universitário Fibra:-1.455183;-48.48
 2397
END:VEVENT
END:VCALENDAR