BEGIN:VCALENDAR
VERSION:2.0
PRODID:Events Booking
BEGIN:VEVENT
UID:69ea576d5e0f1
SUMMARY:II JORNADA DE PSICOLOGIA SOCIAL E MOVIMENTOS SOCIAIS NA AMAZÔNIA -
  MANHÃ
DESCRIPTION:Hora: 8h às 11h
 Hall de entrada do Auditório
 – Sebo da 
 LAPSO (Liga Acadêmica de Psicologia Social)
 Hora: 8:30 às 10:30h.
 Ha
 ll de entrada do Auditório
 - Apresentação de Trabalhos relativos aos 
 temas do evento (10h em Atividade complementar)
 - Deverão ser apresenta
 dos em formato de Banner
 Hora: 10:40 às 12h.
 - Instalação de interv
 enção alusiva ao tema do evento (Hall de entrada do Auditório) –
 Co
 nstrução de um mural com cartas de usuários dos CAPS
 caixa de som e m
 icrofone aberto para falas livres!
 Hora: 12h – Show de encerramento
LOCATION:Av. Gentil Bittencourt\, 1144.
DTSTART:20250530T110000Z
DTEND:20250530T160000Z
DTSTAMP:20250512T142417Z
ORGANIZER;CN=Portal de Eventos - Centro Universitário Fibra:MAILTO:eventos
 @fibrapara.edu.br
GEO:-1.455183;-48.482397
X-APPLE-STRUCTURED-LOCATION;VALUE=URI;X-ADDRESS=Av. Gentil Bittencourt\, 11
 44.;X-APPLE-RADIUS=72;X-TITLE=Centro Universitário Fibra:-1.455183;-48.48
 2397
END:VEVENT
END:VCALENDAR