BEGIN:VCALENDAR
VERSION:2.0
PRODID:Events Booking
BEGIN:VEVENT
UID:69ea576d779bc
SUMMARY:II JORNADA DE PSICOLOGIA SOCIAL E MOVIMENTOS SOCIAIS NA AMAZÔNIA -
  MANHÃ
DESCRIPTION:Dia: 29/05
 Hora: 8h às 11h
 Hall de entrada do Auditório

  – Sebo da LAPSO (Liga Acadêmica de Psicologia Social)
 Hora: 8:30 às
  9h. – Abertura
 Convidados:
 - Prof. Dr. Guilherme Wady (Luta Antiman
 icomial) – Movimentos Sociais
 - Prof. Dr. Ronildo Silva (Psicologia So
 cial e Psicologia Social e Movimentos Sociais na Amazônia) - Movimentos S
 ociais
 Hora: 9 às 9:45h.
 Palestra 1: Caminhos da Desinstitucionaliza
 ção no Pará a partir da Resolução CNJ N. 487/23
 Convidada: Psicólo
 ga Aline Beserra (Secretaria de Estado de Administração Penitenciária 
 – SEAP e Comitê Estadual Interinstitucional de Monitoramento da Políti
 ca Antimanicomial – CEIMPA)
 INTERVALO: 9:45 às 10h.
 Hora: 10 às 11
 :00h.
 - Mesa-Redonda 1: O Movimento de Luta Antimanicomial: desafios atu
 ais para a construção do cuidado em liberdade
 - Convidada(o) 1: Vitór
 ia de Amorim Almeida. Psicóloga\, Mestra em Psicologia (UFPA) e Militante
  do Movimento de Luta Antimanicomial
 - Convidada(o) 2: Ana Faleiro. Pres
 identa do CAPSI Estácio e integrante da Executiva Estadual do Movimento d
 e Luta Antimanicomial
 - Convidada(o) 3: Flaviane Pacheco. Discente do 3
 º semestre (noite)\, membro do CAPSI Fibra e Estagiária do CAPS III.
LOCATION:Av. Gentil Bittencourt\, 1144.
DTSTART:20250529T113500Z
DTEND:20250529T140000Z
DTSTAMP:20250512T142417Z
ORGANIZER;CN=Portal de Eventos - Centro Universitário Fibra:MAILTO:eventos
 @fibrapara.edu.br
GEO:-1.455183;-48.482397
X-APPLE-STRUCTURED-LOCATION;VALUE=URI;X-ADDRESS=Av. Gentil Bittencourt\, 11
 44.;X-APPLE-RADIUS=72;X-TITLE=Centro Universitário Fibra:-1.455183;-48.48
 2397
END:VEVENT
END:VCALENDAR