BEGIN:VCALENDAR
VERSION:2.0
PRODID:Events Booking
BEGIN:VEVENT
UID:69eca76202632
SUMMARY:13ª Semana de Enfermagem - Dia 2 - Manhã
DESCRIPTION:
 08:00 - 08:30: Recepção dos Participantes
 08:30 - 09:30:
  Palestra Magna: Tecnologias Inovadoras Aplicadas ao Cuidado de Enfermagem
 
 
 
 Palestrante: Profa Dra. Ingrid Magali de Souza Pimentel – Unive
 rsidade do Estado do Pará
 
 10:00 SORTEIO DE BRINDE
 
 
 
 
 09:3
 0 - 13:00: Apresentação dos Trabalhos da Curricularização (Bloco 3)
 
 
 Trabalho 1: TRANSMISSÃO VERTICAL DO VÍRUS OROPOUCHE NO BRASIL E OS AS
 PECTOS CLÍNICOS.
 Trabalho 2: ENCHENTES NA GRANDE BELÉM E O AUMENTO DO 
 RISCO DE MALÁRIA: IMPACTOS DAS MUDNAÇAS CLIMÁTICAS E URBANIZAÇÃO.
 T
 rabalho 3:A RELAÇÃO ENTRE MUDANÇAS CLIMÁTICAS E O AUMENTO DE DENGUE EM
  IDOSOS NA AMAZÔNIA.
 Trabalho 4: AS MUDANÇAS CLIMÁTICAS E SEUS IMPACT
 OS NA SAÚDE DAS POPULAÇÕES AMAZÔNICAS: ATUAÇÃO DE ENFERMAGEM NO DESM
 ATAMENTO COMO FATOR DE RISCO PARA A DISSEMINAÇÃO DA MALÁRIA URBANA.
 T
 rabalho 5: DOENÇA DE CHAGAS NA AMAZÔNIA: O ALERTA DAS MUDANÇAS CLIMÁTI
 CAS E O PAPEL DA ENFERMAGEM.
 Trabalho 6: A ENFERMAGEM NA EDUCAÇÃO E PR
 EVENÇÃO DA FEBRE AMARELA NA AMAZÔNIA DIANTE DAS MUDANÇAS CLIMÁTICAS.
 
 Trabalho 7: ORIENTAÇÕES IMAGÉTICAS PARA A PREVENÇÃO DA LEPTOSPIROSE
  PARA CRIANÇAS SURDAS.
 Trabalho 8: EDUCAÇÃO E PREVENÇÃO: O PAPEL DA
  COMUNIDADE ESCOLAR NO COMBATE À DENGUE.
 Trabalho 9: PREVENÇÃO DA DEN
 GUE E O PAPEL DA ENFERMAGEM NA CONSCIENTIZAÇÃO E ACESSIBILIDADE PARA A C
 OMUNIDADE SURDA
 Trabalho 10: O IMPACTO DAS MUDANÇAS CLIMÁTICAS NA DISS
 EMINAÇÃO DO ZIKA VIRUS E SEUS E SEUS EFEITOS NA SAÚDE DA POPULAÇÃO AM
 AZÕNICA.
 Trabalho 11: BRONQUEOLITE INFANTIL E SUAS COMPLICAÇÕES.
 
LOCATION:Av. Gentil Bittencourt\, 1144.
DTSTART:20250513T110000Z
DTEND:20250513T160000Z
DTSTAMP:20250508T001608Z
ORGANIZER;CN=Portal de Eventos - Centro Universitário Fibra:MAILTO:eventos
 @fibrapara.edu.br
GEO:-1.455183;-48.482397
X-APPLE-STRUCTURED-LOCATION;VALUE=URI;X-ADDRESS=Av. Gentil Bittencourt\, 11
 44.;X-APPLE-RADIUS=72;X-TITLE=Centro Universitário Fibra:-1.455183;-48.48
 2397
END:VEVENT
END:VCALENDAR