BEGIN:VCALENDAR
VERSION:2.0
PRODID:Events Booking
BEGIN:VEVENT
UID:69e93329e0a4d
SUMMARY:Família Multiespécie - Saúde
DESCRIPTION:Mesa redonda 1
 Medicina Veterinária – Mediadora: Profª Ge
 rlane Noronha
 Biomedicina: Profª Claudia Baltazar
 Enfermagem: Profª 
 Cinthia Santa Brígida
 Fisioterapia: Prof. Igor Tagore
 Nutrição: Pro
 fª Déborah Oliveira
 Farmácia: Prof. Edgard Pereira Neto
 Mesa redond
 a 2
 Medicina Veterinária – Mediadora: Profª Marcella Bernal
 Pedago
 gia: Profª Manuela Beltrão
 Psicologia: Prof. Guilherme Wady
 Serviço
  Social: Profª Luciléa Santos
 Odontologia: Profª Angela Azevedo
LOCATION:Av. Gentil Bittencourt\, 1144.
DTSTART:20240520T170000Z
DTEND:20240520T200000Z
DTSTAMP:20240416T220920Z
ORGANIZER;CN=Portal de Eventos - Centro Universitário Fibra:MAILTO:eventos
 @fibrapara.edu.br
GEO:-1.455183;-48.482397
X-APPLE-STRUCTURED-LOCATION;VALUE=URI;X-ADDRESS=Av. Gentil Bittencourt\, 11
 44.;X-APPLE-RADIUS=72;X-TITLE=Centro Universitário Fibra:-1.455183;-48.48
 2397
END:VEVENT
END:VCALENDAR