BEGIN:VCALENDAR
VERSION:2.0
PRODID:Events Booking
BEGIN:VEVENT
UID:69ea1a58959ca
SUMMARY:Jornada de Psicologia - Manhã 18
DESCRIPTION:DIA 18/06 - MANHÃ
 Hora: 8:30 às 9:30h.
 Roda de Conversa: 
 Conversando com Dona Téo: Para pensar o diálogo entre psicologia e popul
 ação do campo.
 Convidada:
 - Dona Téo. Pedagoga e Educadora Popular.
  Assentada pela Reforma Agrária\, no Assentamento Mártires de Abril. Mil
 itante do Movimento dos Trabalhadores Rurais Sem Terra (MST) – Frente de
  Produção e Saúde. Proprietária do Lote Agroecológico de Produção O
 rgânica (LAPO).
 Mediador:
 Prof. Dr. Guilherme Wady. Psicólogo (Secre
 taria Municipal de Saúde e Meio Ambiente – SESMA). Coordenador do Curso
  de Psicologia (Fibra).
 &nbsp\;
 Hora: 9:30 às 10:30h
 Mesa-redonda 1
 : Territórios e cuidados em saúde mental.
 Convidadas:
 - Profa. Ma. M
 arilda Couto. Psicóloga\, doutoranda do PPGP (UFPA). Vice Presidenta da A
 ssociação Brasileira de Saúde Mental (ABRASME)
 - Alda Leila S. Palhet
 a. Psicóloga
 Mediadora:
 - Profa. Dra. Roseane Torres de Madeiro. Psic
 óloga. Docente FIBRA.
 &nbsp\;
 INTERVALO: 10:30 às 10:45h
 &nbsp\;

  Hora: 10:45 às 12:15h
 Mesa-redonda 2: Tecnologias de cuidado na Amazô
 nia: confluências possíveis entre chão\, rio e florestas.
 Convidados:
 
 - Álvaro Pinto Palha Junior. Psicólogo. Mestre em Bioética\, Ética 
 Aplicada e Saúde Coletiva pela Universidade Federal Fluminense (UFF) e Es
 pecialista em Saúde Indígena pela Universidade Federal de São Paulo (UN
 IFESP)
 - Marcela Acioli de Nazaré. Psicóloga. Especialista em Psicolog
 ia Social e Comunidades. Membro do GT de Psicologia e Povos Indígenas e d
 e Gênero do CRP 10 PA/AP.
 - João Paulo Tukano. Antropólogo e professo
 r da Universidade Federal do Amazonas (UFAM). Ativista indígena do povo Y
 e'pamahsã.
 Mediador: Prof. Dr. Ronildo Silva. Docente Fibra.
LOCATION:Av. Gentil Bittencourt\, 1144.
DTSTART:20240618T120000Z
DTEND:20240618T150000Z
DTSTAMP:20240412T170057Z
ORGANIZER;CN=Portal de Eventos - Centro Universitário Fibra:MAILTO:eventos
 @fibrapara.edu.br
GEO:-1.455183;-48.482397
X-APPLE-STRUCTURED-LOCATION;VALUE=URI;X-ADDRESS=Av. Gentil Bittencourt\, 11
 44.;X-APPLE-RADIUS=72;X-TITLE=Centro Universitário Fibra:-1.455183;-48.48
 2397
END:VEVENT
END:VCALENDAR